BEGIN:VCALENDAR
VERSION:2.0
PRODID:-//Trinity in the Fields - ECPv6.15.20//NONSGML v1.0//EN
CALSCALE:GREGORIAN
METHOD:PUBLISH
X-ORIGINAL-URL:https://trinityinthefields.org
X-WR-CALDESC:Events for Trinity in the Fields
REFRESH-INTERVAL;VALUE=DURATION:PT1H
X-Robots-Tag:noindex
X-PUBLISHED-TTL:PT1H
BEGIN:VTIMEZONE
TZID:UTC
BEGIN:STANDARD
TZOFFSETFROM:+0000
TZOFFSETTO:+0000
TZNAME:UTC
DTSTART:20230101T000000
END:STANDARD
END:VTIMEZONE
BEGIN:VEVENT
DTSTART;TZID=UTC:20241205T180000
DTEND;TZID=UTC:20241205T190000
DTSTAMP:20260423T165919
CREATED:20230905T162515Z
LAST-MODIFIED:20230905T162515Z
UID:2109-1733421600-1733425200@trinityinthefields.org
SUMMARY:AA
DESCRIPTION:
URL:https://trinityinthefields.org/event/aa-3-2024-12-05/
LOCATION:Trinity in the Fields\, 100 East Military Road\, Marion\, AR\, 72364\, United States
END:VEVENT
BEGIN:VEVENT
DTSTART;TZID=UTC:20241204T180000
DTEND;TZID=UTC:20241204T200000
DTSTAMP:20260423T165919
CREATED:20230905T164023Z
LAST-MODIFIED:20230905T164023Z
UID:2183-1733335200-1733342400@trinityinthefields.org
SUMMARY:Small Group Ministries
DESCRIPTION:We meet at Marion\, West Memphis\, and Horseshoe lake
URL:https://trinityinthefields.org/event/small-group-ministries-2024-12-04/
LOCATION:Marion
END:VEVENT
BEGIN:VEVENT
DTSTART;TZID=UTC:20241202T180000
DTEND;TZID=UTC:20241202T190000
DTSTAMP:20260423T165919
CREATED:20230905T161711Z
LAST-MODIFIED:20230905T162028Z
UID:1910-1733162400-1733166000@trinityinthefields.org
SUMMARY:AA
DESCRIPTION:
URL:https://trinityinthefields.org/event/aa-2024-12-02/
LOCATION:Trinity in the Fields\, 100 East Military Road\, Marion\, AR\, 72364\, United States
END:VEVENT
BEGIN:VEVENT
DTSTART;TZID=UTC:20241201T103000
DTEND;TZID=UTC:20241201T233000
DTSTAMP:20260423T165919
CREATED:20230905T160512Z
LAST-MODIFIED:20230905T160512Z
UID:1840-1733049000-1733095800@trinityinthefields.org
SUMMARY:Sunday Worship
DESCRIPTION:
URL:https://trinityinthefields.org/event/sunday-worship-2024-12-01/
LOCATION:Trinity in the Fields\, 100 East Military Road\, Marion\, AR\, 72364\, United States
END:VEVENT
BEGIN:VEVENT
DTSTART;TZID=UTC:20241128T180000
DTEND;TZID=UTC:20241128T190000
DTSTAMP:20260423T165919
CREATED:20230905T162515Z
LAST-MODIFIED:20230905T162515Z
UID:2108-1732816800-1732820400@trinityinthefields.org
SUMMARY:AA
DESCRIPTION:
URL:https://trinityinthefields.org/event/aa-3-2024-11-28/
LOCATION:Trinity in the Fields\, 100 East Military Road\, Marion\, AR\, 72364\, United States
END:VEVENT
BEGIN:VEVENT
DTSTART;TZID=UTC:20241127T180000
DTEND;TZID=UTC:20241127T200000
DTSTAMP:20260423T165919
CREATED:20230905T164023Z
LAST-MODIFIED:20230905T164023Z
UID:2182-1732730400-1732737600@trinityinthefields.org
SUMMARY:Small Group Ministries
DESCRIPTION:We meet at Marion\, West Memphis\, and Horseshoe lake
URL:https://trinityinthefields.org/event/small-group-ministries-2024-11-27/
LOCATION:Marion
END:VEVENT
BEGIN:VEVENT
DTSTART;TZID=UTC:20241125T180000
DTEND;TZID=UTC:20241125T190000
DTSTAMP:20260423T165919
CREATED:20230905T161711Z
LAST-MODIFIED:20230905T162026Z
UID:1909-1732557600-1732561200@trinityinthefields.org
SUMMARY:AA
DESCRIPTION:
URL:https://trinityinthefields.org/event/aa-2024-11-25/
LOCATION:Trinity in the Fields\, 100 East Military Road\, Marion\, AR\, 72364\, United States
END:VEVENT
BEGIN:VEVENT
DTSTART;TZID=UTC:20241124T103000
DTEND;TZID=UTC:20241124T233000
DTSTAMP:20260423T165919
CREATED:20230905T160512Z
LAST-MODIFIED:20230905T160512Z
UID:1839-1732444200-1732491000@trinityinthefields.org
SUMMARY:Sunday Worship
DESCRIPTION:
URL:https://trinityinthefields.org/event/sunday-worship-2024-11-24/
LOCATION:Trinity in the Fields\, 100 East Military Road\, Marion\, AR\, 72364\, United States
END:VEVENT
BEGIN:VEVENT
DTSTART;TZID=UTC:20241121T180000
DTEND;TZID=UTC:20241121T190000
DTSTAMP:20260423T165919
CREATED:20230905T162515Z
LAST-MODIFIED:20230905T162515Z
UID:2107-1732212000-1732215600@trinityinthefields.org
SUMMARY:AA
DESCRIPTION:
URL:https://trinityinthefields.org/event/aa-3-2024-11-21/
LOCATION:Trinity in the Fields\, 100 East Military Road\, Marion\, AR\, 72364\, United States
END:VEVENT
BEGIN:VEVENT
DTSTART;TZID=UTC:20241120T180000
DTEND;TZID=UTC:20241120T200000
DTSTAMP:20260423T165919
CREATED:20230905T164023Z
LAST-MODIFIED:20230905T164023Z
UID:2181-1732125600-1732132800@trinityinthefields.org
SUMMARY:Small Group Ministries
DESCRIPTION:We meet at Marion\, West Memphis\, and Horseshoe lake
URL:https://trinityinthefields.org/event/small-group-ministries-2024-11-20/
LOCATION:Marion
END:VEVENT
BEGIN:VEVENT
DTSTART;TZID=UTC:20241118T180000
DTEND;TZID=UTC:20241118T190000
DTSTAMP:20260423T165919
CREATED:20230905T161711Z
LAST-MODIFIED:20230905T162023Z
UID:1908-1731952800-1731956400@trinityinthefields.org
SUMMARY:AA
DESCRIPTION:
URL:https://trinityinthefields.org/event/aa-2024-11-18/
LOCATION:Trinity in the Fields\, 100 East Military Road\, Marion\, AR\, 72364\, United States
END:VEVENT
BEGIN:VEVENT
DTSTART;TZID=UTC:20241117T103000
DTEND;TZID=UTC:20241117T233000
DTSTAMP:20260423T165919
CREATED:20230905T160512Z
LAST-MODIFIED:20230905T160512Z
UID:1838-1731839400-1731886200@trinityinthefields.org
SUMMARY:Sunday Worship
DESCRIPTION:
URL:https://trinityinthefields.org/event/sunday-worship-2024-11-17/
LOCATION:Trinity in the Fields\, 100 East Military Road\, Marion\, AR\, 72364\, United States
END:VEVENT
BEGIN:VEVENT
DTSTART;TZID=UTC:20241114T180000
DTEND;TZID=UTC:20241114T190000
DTSTAMP:20260423T165919
CREATED:20230905T162515Z
LAST-MODIFIED:20230905T162515Z
UID:2106-1731607200-1731610800@trinityinthefields.org
SUMMARY:AA
DESCRIPTION:
URL:https://trinityinthefields.org/event/aa-3-2024-11-14/
LOCATION:Trinity in the Fields\, 100 East Military Road\, Marion\, AR\, 72364\, United States
END:VEVENT
BEGIN:VEVENT
DTSTART;TZID=UTC:20241113T180000
DTEND;TZID=UTC:20241113T200000
DTSTAMP:20260423T165919
CREATED:20230905T164023Z
LAST-MODIFIED:20230905T164023Z
UID:2180-1731520800-1731528000@trinityinthefields.org
SUMMARY:Small Group Ministries
DESCRIPTION:We meet at Marion\, West Memphis\, and Horseshoe lake
URL:https://trinityinthefields.org/event/small-group-ministries-2024-11-13/
LOCATION:Marion
END:VEVENT
BEGIN:VEVENT
DTSTART;TZID=UTC:20241111T180000
DTEND;TZID=UTC:20241111T190000
DTSTAMP:20260423T165919
CREATED:20230905T161711Z
LAST-MODIFIED:20230905T162021Z
UID:1907-1731348000-1731351600@trinityinthefields.org
SUMMARY:AA
DESCRIPTION:
URL:https://trinityinthefields.org/event/aa-2024-11-11/
LOCATION:Trinity in the Fields\, 100 East Military Road\, Marion\, AR\, 72364\, United States
END:VEVENT
BEGIN:VEVENT
DTSTART;TZID=UTC:20241110T103000
DTEND;TZID=UTC:20241110T233000
DTSTAMP:20260423T165919
CREATED:20230905T160512Z
LAST-MODIFIED:20230905T160512Z
UID:1837-1731234600-1731281400@trinityinthefields.org
SUMMARY:Sunday Worship
DESCRIPTION:
URL:https://trinityinthefields.org/event/sunday-worship-2024-11-10/
LOCATION:Trinity in the Fields\, 100 East Military Road\, Marion\, AR\, 72364\, United States
END:VEVENT
BEGIN:VEVENT
DTSTART;TZID=UTC:20241107T180000
DTEND;TZID=UTC:20241107T190000
DTSTAMP:20260423T165919
CREATED:20230905T162515Z
LAST-MODIFIED:20230905T162515Z
UID:2105-1731002400-1731006000@trinityinthefields.org
SUMMARY:AA
DESCRIPTION:
URL:https://trinityinthefields.org/event/aa-3-2024-11-07/
LOCATION:Trinity in the Fields\, 100 East Military Road\, Marion\, AR\, 72364\, United States
END:VEVENT
BEGIN:VEVENT
DTSTART;TZID=UTC:20241106T180000
DTEND;TZID=UTC:20241106T200000
DTSTAMP:20260423T165919
CREATED:20230905T164023Z
LAST-MODIFIED:20230905T164023Z
UID:2179-1730916000-1730923200@trinityinthefields.org
SUMMARY:Small Group Ministries
DESCRIPTION:We meet at Marion\, West Memphis\, and Horseshoe lake
URL:https://trinityinthefields.org/event/small-group-ministries-2024-11-06/
LOCATION:Marion
END:VEVENT
BEGIN:VEVENT
DTSTART;TZID=UTC:20241104T180000
DTEND;TZID=UTC:20241104T190000
DTSTAMP:20260423T165919
CREATED:20230905T161711Z
LAST-MODIFIED:20230905T162019Z
UID:1906-1730743200-1730746800@trinityinthefields.org
SUMMARY:AA
DESCRIPTION:
URL:https://trinityinthefields.org/event/aa-2024-11-04/
LOCATION:Trinity in the Fields\, 100 East Military Road\, Marion\, AR\, 72364\, United States
END:VEVENT
BEGIN:VEVENT
DTSTART;TZID=UTC:20241103T103000
DTEND;TZID=UTC:20241103T233000
DTSTAMP:20260423T165919
CREATED:20230905T160512Z
LAST-MODIFIED:20230905T160512Z
UID:1836-1730629800-1730676600@trinityinthefields.org
SUMMARY:Sunday Worship
DESCRIPTION:
URL:https://trinityinthefields.org/event/sunday-worship-2024-11-03/
LOCATION:Trinity in the Fields\, 100 East Military Road\, Marion\, AR\, 72364\, United States
END:VEVENT
BEGIN:VEVENT
DTSTART;TZID=UTC:20241031T180000
DTEND;TZID=UTC:20241031T190000
DTSTAMP:20260423T165919
CREATED:20230905T162515Z
LAST-MODIFIED:20230905T162515Z
UID:2104-1730397600-1730401200@trinityinthefields.org
SUMMARY:AA
DESCRIPTION:
URL:https://trinityinthefields.org/event/aa-3-2024-10-31/
LOCATION:Trinity in the Fields\, 100 East Military Road\, Marion\, AR\, 72364\, United States
END:VEVENT
BEGIN:VEVENT
DTSTART;TZID=UTC:20241030T180000
DTEND;TZID=UTC:20241030T200000
DTSTAMP:20260423T165919
CREATED:20230905T164023Z
LAST-MODIFIED:20230905T164023Z
UID:2178-1730311200-1730318400@trinityinthefields.org
SUMMARY:Small Group Ministries
DESCRIPTION:We meet at Marion\, West Memphis\, and Horseshoe lake
URL:https://trinityinthefields.org/event/small-group-ministries-2024-10-30/
LOCATION:Marion
END:VEVENT
BEGIN:VEVENT
DTSTART;TZID=UTC:20241028T180000
DTEND;TZID=UTC:20241028T190000
DTSTAMP:20260423T165919
CREATED:20230905T161711Z
LAST-MODIFIED:20230905T162017Z
UID:1905-1730138400-1730142000@trinityinthefields.org
SUMMARY:AA
DESCRIPTION:
URL:https://trinityinthefields.org/event/aa-2024-10-28/
LOCATION:Trinity in the Fields\, 100 East Military Road\, Marion\, AR\, 72364\, United States
END:VEVENT
BEGIN:VEVENT
DTSTART;TZID=UTC:20241027T103000
DTEND;TZID=UTC:20241027T233000
DTSTAMP:20260423T165919
CREATED:20230905T160512Z
LAST-MODIFIED:20230905T160512Z
UID:1835-1730025000-1730071800@trinityinthefields.org
SUMMARY:Sunday Worship
DESCRIPTION:
URL:https://trinityinthefields.org/event/sunday-worship-2024-10-27/
LOCATION:Trinity in the Fields\, 100 East Military Road\, Marion\, AR\, 72364\, United States
END:VEVENT
BEGIN:VEVENT
DTSTART;TZID=UTC:20241024T180000
DTEND;TZID=UTC:20241024T190000
DTSTAMP:20260423T165919
CREATED:20230905T162515Z
LAST-MODIFIED:20230905T162515Z
UID:2103-1729792800-1729796400@trinityinthefields.org
SUMMARY:AA
DESCRIPTION:
URL:https://trinityinthefields.org/event/aa-3-2024-10-24/
LOCATION:Trinity in the Fields\, 100 East Military Road\, Marion\, AR\, 72364\, United States
END:VEVENT
BEGIN:VEVENT
DTSTART;TZID=UTC:20241023T180000
DTEND;TZID=UTC:20241023T200000
DTSTAMP:20260423T165919
CREATED:20230905T164023Z
LAST-MODIFIED:20230905T164023Z
UID:2177-1729706400-1729713600@trinityinthefields.org
SUMMARY:Small Group Ministries
DESCRIPTION:We meet at Marion\, West Memphis\, and Horseshoe lake
URL:https://trinityinthefields.org/event/small-group-ministries-2024-10-23/
LOCATION:Marion
END:VEVENT
BEGIN:VEVENT
DTSTART;TZID=UTC:20241021T180000
DTEND;TZID=UTC:20241021T190000
DTSTAMP:20260423T165919
CREATED:20230905T161711Z
LAST-MODIFIED:20230905T162015Z
UID:1904-1729533600-1729537200@trinityinthefields.org
SUMMARY:AA
DESCRIPTION:
URL:https://trinityinthefields.org/event/aa-2024-10-21/
LOCATION:Trinity in the Fields\, 100 East Military Road\, Marion\, AR\, 72364\, United States
END:VEVENT
BEGIN:VEVENT
DTSTART;TZID=UTC:20241020T103000
DTEND;TZID=UTC:20241020T233000
DTSTAMP:20260423T165919
CREATED:20230905T160512Z
LAST-MODIFIED:20230905T160512Z
UID:1834-1729420200-1729467000@trinityinthefields.org
SUMMARY:Sunday Worship
DESCRIPTION:
URL:https://trinityinthefields.org/event/sunday-worship-2024-10-20/
LOCATION:Trinity in the Fields\, 100 East Military Road\, Marion\, AR\, 72364\, United States
END:VEVENT
BEGIN:VEVENT
DTSTART;TZID=UTC:20241017T180000
DTEND;TZID=UTC:20241017T190000
DTSTAMP:20260423T165919
CREATED:20230905T162515Z
LAST-MODIFIED:20230905T162515Z
UID:2102-1729188000-1729191600@trinityinthefields.org
SUMMARY:AA
DESCRIPTION:
URL:https://trinityinthefields.org/event/aa-3-2024-10-17/
LOCATION:Trinity in the Fields\, 100 East Military Road\, Marion\, AR\, 72364\, United States
END:VEVENT
BEGIN:VEVENT
DTSTART;TZID=UTC:20241016T180000
DTEND;TZID=UTC:20241016T200000
DTSTAMP:20260423T165919
CREATED:20230905T164023Z
LAST-MODIFIED:20230905T164023Z
UID:2176-1729101600-1729108800@trinityinthefields.org
SUMMARY:Small Group Ministries
DESCRIPTION:We meet at Marion\, West Memphis\, and Horseshoe lake
URL:https://trinityinthefields.org/event/small-group-ministries-2024-10-16/
LOCATION:Marion
END:VEVENT
END:VCALENDAR