BEGIN:VCALENDAR
VERSION:2.0
PRODID:-//Trinity in the Fields - ECPv6.15.20//NONSGML v1.0//EN
CALSCALE:GREGORIAN
METHOD:PUBLISH
X-WR-CALNAME:Trinity in the Fields
X-ORIGINAL-URL:https://trinityinthefields.org
X-WR-CALDESC:Events for Trinity in the Fields
REFRESH-INTERVAL;VALUE=DURATION:PT1H
X-Robots-Tag:noindex
X-PUBLISHED-TTL:PT1H
BEGIN:VTIMEZONE
TZID:UTC
BEGIN:STANDARD
TZOFFSETFROM:+0000
TZOFFSETTO:+0000
TZNAME:UTC
DTSTART:20230101T000000
END:STANDARD
END:VTIMEZONE
BEGIN:VEVENT
DTSTART;TZID=UTC:20240530T180000
DTEND;TZID=UTC:20240530T190000
DTSTAMP:20260424T025722
CREATED:20230905T162515Z
LAST-MODIFIED:20230905T162515Z
UID:2082-1717092000-1717095600@trinityinthefields.org
SUMMARY:AA
DESCRIPTION:
URL:https://trinityinthefields.org/event/aa-3-2024-05-30/
LOCATION:Trinity in the Fields\, 100 East Military Road\, Marion\, AR\, 72364\, United States
END:VEVENT
BEGIN:VEVENT
DTSTART;TZID=UTC:20240529T180000
DTEND;TZID=UTC:20240529T200000
DTSTAMP:20260424T025722
CREATED:20230905T164023Z
LAST-MODIFIED:20230905T164023Z
UID:2156-1717005600-1717012800@trinityinthefields.org
SUMMARY:Small Group Ministries
DESCRIPTION:We meet at Marion\, West Memphis\, and Horseshoe lake
URL:https://trinityinthefields.org/event/small-group-ministries-2024-05-29/
LOCATION:Marion
END:VEVENT
BEGIN:VEVENT
DTSTART;TZID=UTC:20240527T180000
DTEND;TZID=UTC:20240527T190000
DTSTAMP:20260424T025722
CREATED:20230905T161711Z
LAST-MODIFIED:20230905T161922Z
UID:1883-1716832800-1716836400@trinityinthefields.org
SUMMARY:AA
DESCRIPTION:
URL:https://trinityinthefields.org/event/aa-2024-05-27/
LOCATION:Trinity in the Fields\, 100 East Military Road\, Marion\, AR\, 72364\, United States
END:VEVENT
BEGIN:VEVENT
DTSTART;TZID=UTC:20240526T103000
DTEND;TZID=UTC:20240526T233000
DTSTAMP:20260424T025722
CREATED:20230905T160512Z
LAST-MODIFIED:20230905T160512Z
UID:1813-1716719400-1716766200@trinityinthefields.org
SUMMARY:Sunday Worship
DESCRIPTION:
URL:https://trinityinthefields.org/event/sunday-worship-2024-05-26/
LOCATION:Trinity in the Fields\, 100 East Military Road\, Marion\, AR\, 72364\, United States
END:VEVENT
BEGIN:VEVENT
DTSTART;TZID=UTC:20240523T180000
DTEND;TZID=UTC:20240523T190000
DTSTAMP:20260424T025722
CREATED:20230905T162515Z
LAST-MODIFIED:20230905T162515Z
UID:2081-1716487200-1716490800@trinityinthefields.org
SUMMARY:AA
DESCRIPTION:
URL:https://trinityinthefields.org/event/aa-3-2024-05-23/
LOCATION:Trinity in the Fields\, 100 East Military Road\, Marion\, AR\, 72364\, United States
END:VEVENT
BEGIN:VEVENT
DTSTART;TZID=UTC:20240522T180000
DTEND;TZID=UTC:20240522T200000
DTSTAMP:20260424T025722
CREATED:20230905T164023Z
LAST-MODIFIED:20230905T164023Z
UID:2155-1716400800-1716408000@trinityinthefields.org
SUMMARY:Small Group Ministries
DESCRIPTION:We meet at Marion\, West Memphis\, and Horseshoe lake
URL:https://trinityinthefields.org/event/small-group-ministries-2024-05-22/
LOCATION:Marion
END:VEVENT
BEGIN:VEVENT
DTSTART;TZID=UTC:20240520T180000
DTEND;TZID=UTC:20240520T190000
DTSTAMP:20260424T025722
CREATED:20230905T161711Z
LAST-MODIFIED:20230905T161920Z
UID:1882-1716228000-1716231600@trinityinthefields.org
SUMMARY:AA
DESCRIPTION:
URL:https://trinityinthefields.org/event/aa-2024-05-20/
LOCATION:Trinity in the Fields\, 100 East Military Road\, Marion\, AR\, 72364\, United States
END:VEVENT
BEGIN:VEVENT
DTSTART;TZID=UTC:20240519T103000
DTEND;TZID=UTC:20240519T233000
DTSTAMP:20260424T025722
CREATED:20230905T160512Z
LAST-MODIFIED:20230905T160512Z
UID:1812-1716114600-1716161400@trinityinthefields.org
SUMMARY:Sunday Worship
DESCRIPTION:
URL:https://trinityinthefields.org/event/sunday-worship-2024-05-19/
LOCATION:Trinity in the Fields\, 100 East Military Road\, Marion\, AR\, 72364\, United States
END:VEVENT
BEGIN:VEVENT
DTSTART;TZID=UTC:20240516T180000
DTEND;TZID=UTC:20240516T190000
DTSTAMP:20260424T025722
CREATED:20230905T162515Z
LAST-MODIFIED:20230905T162515Z
UID:2080-1715882400-1715886000@trinityinthefields.org
SUMMARY:AA
DESCRIPTION:
URL:https://trinityinthefields.org/event/aa-3-2024-05-16/
LOCATION:Trinity in the Fields\, 100 East Military Road\, Marion\, AR\, 72364\, United States
END:VEVENT
BEGIN:VEVENT
DTSTART;TZID=UTC:20240515T180000
DTEND;TZID=UTC:20240515T200000
DTSTAMP:20260424T025722
CREATED:20230905T164023Z
LAST-MODIFIED:20230905T164023Z
UID:2154-1715796000-1715803200@trinityinthefields.org
SUMMARY:Small Group Ministries
DESCRIPTION:We meet at Marion\, West Memphis\, and Horseshoe lake
URL:https://trinityinthefields.org/event/small-group-ministries-2024-05-15/
LOCATION:Marion
END:VEVENT
BEGIN:VEVENT
DTSTART;TZID=UTC:20240513T180000
DTEND;TZID=UTC:20240513T190000
DTSTAMP:20260424T025722
CREATED:20230905T161711Z
LAST-MODIFIED:20230905T161917Z
UID:1881-1715623200-1715626800@trinityinthefields.org
SUMMARY:AA
DESCRIPTION:
URL:https://trinityinthefields.org/event/aa-2024-05-13/
LOCATION:Trinity in the Fields\, 100 East Military Road\, Marion\, AR\, 72364\, United States
END:VEVENT
BEGIN:VEVENT
DTSTART;TZID=UTC:20240512T103000
DTEND;TZID=UTC:20240512T233000
DTSTAMP:20260424T025722
CREATED:20230905T160512Z
LAST-MODIFIED:20230905T160512Z
UID:1811-1715509800-1715556600@trinityinthefields.org
SUMMARY:Sunday Worship
DESCRIPTION:
URL:https://trinityinthefields.org/event/sunday-worship-2024-05-12/
LOCATION:Trinity in the Fields\, 100 East Military Road\, Marion\, AR\, 72364\, United States
END:VEVENT
BEGIN:VEVENT
DTSTART;TZID=UTC:20240509T180000
DTEND;TZID=UTC:20240509T190000
DTSTAMP:20260424T025722
CREATED:20230905T162515Z
LAST-MODIFIED:20230905T162515Z
UID:2079-1715277600-1715281200@trinityinthefields.org
SUMMARY:AA
DESCRIPTION:
URL:https://trinityinthefields.org/event/aa-3-2024-05-09/
LOCATION:Trinity in the Fields\, 100 East Military Road\, Marion\, AR\, 72364\, United States
END:VEVENT
BEGIN:VEVENT
DTSTART;TZID=UTC:20240508T180000
DTEND;TZID=UTC:20240508T200000
DTSTAMP:20260424T025722
CREATED:20230905T164023Z
LAST-MODIFIED:20230905T164023Z
UID:2153-1715191200-1715198400@trinityinthefields.org
SUMMARY:Small Group Ministries
DESCRIPTION:We meet at Marion\, West Memphis\, and Horseshoe lake
URL:https://trinityinthefields.org/event/small-group-ministries-2024-05-08/
LOCATION:Marion
END:VEVENT
BEGIN:VEVENT
DTSTART;TZID=UTC:20240506T180000
DTEND;TZID=UTC:20240506T190000
DTSTAMP:20260424T025722
CREATED:20230905T161711Z
LAST-MODIFIED:20230905T161916Z
UID:1880-1715018400-1715022000@trinityinthefields.org
SUMMARY:AA
DESCRIPTION:
URL:https://trinityinthefields.org/event/aa-2024-05-06/
LOCATION:Trinity in the Fields\, 100 East Military Road\, Marion\, AR\, 72364\, United States
END:VEVENT
BEGIN:VEVENT
DTSTART;TZID=UTC:20240505T103000
DTEND;TZID=UTC:20240505T233000
DTSTAMP:20260424T025722
CREATED:20230905T160512Z
LAST-MODIFIED:20230905T160512Z
UID:1810-1714905000-1714951800@trinityinthefields.org
SUMMARY:Sunday Worship
DESCRIPTION:
URL:https://trinityinthefields.org/event/sunday-worship-2024-05-05/
LOCATION:Trinity in the Fields\, 100 East Military Road\, Marion\, AR\, 72364\, United States
END:VEVENT
BEGIN:VEVENT
DTSTART;TZID=UTC:20240502T180000
DTEND;TZID=UTC:20240502T190000
DTSTAMP:20260424T025722
CREATED:20230905T162515Z
LAST-MODIFIED:20230905T162515Z
UID:2078-1714672800-1714676400@trinityinthefields.org
SUMMARY:AA
DESCRIPTION:
URL:https://trinityinthefields.org/event/aa-3-2024-05-02/
LOCATION:Trinity in the Fields\, 100 East Military Road\, Marion\, AR\, 72364\, United States
END:VEVENT
BEGIN:VEVENT
DTSTART;TZID=UTC:20240501T180000
DTEND;TZID=UTC:20240501T200000
DTSTAMP:20260424T025722
CREATED:20230905T164023Z
LAST-MODIFIED:20230905T164023Z
UID:2152-1714586400-1714593600@trinityinthefields.org
SUMMARY:Small Group Ministries
DESCRIPTION:We meet at Marion\, West Memphis\, and Horseshoe lake
URL:https://trinityinthefields.org/event/small-group-ministries-2024-05-01/
LOCATION:Marion
END:VEVENT
BEGIN:VEVENT
DTSTART;TZID=UTC:20240429T180000
DTEND;TZID=UTC:20240429T190000
DTSTAMP:20260424T025722
CREATED:20230905T161711Z
LAST-MODIFIED:20230905T161914Z
UID:1879-1714413600-1714417200@trinityinthefields.org
SUMMARY:AA
DESCRIPTION:
URL:https://trinityinthefields.org/event/aa-2024-04-29/
LOCATION:Trinity in the Fields\, 100 East Military Road\, Marion\, AR\, 72364\, United States
END:VEVENT
BEGIN:VEVENT
DTSTART;TZID=UTC:20240428T103000
DTEND;TZID=UTC:20240428T233000
DTSTAMP:20260424T025722
CREATED:20230905T160512Z
LAST-MODIFIED:20230905T160512Z
UID:1809-1714300200-1714347000@trinityinthefields.org
SUMMARY:Sunday Worship
DESCRIPTION:
URL:https://trinityinthefields.org/event/sunday-worship-2024-04-28/
LOCATION:Trinity in the Fields\, 100 East Military Road\, Marion\, AR\, 72364\, United States
END:VEVENT
BEGIN:VEVENT
DTSTART;TZID=UTC:20240425T180000
DTEND;TZID=UTC:20240425T190000
DTSTAMP:20260424T025722
CREATED:20230905T162515Z
LAST-MODIFIED:20230905T162515Z
UID:2077-1714068000-1714071600@trinityinthefields.org
SUMMARY:AA
DESCRIPTION:
URL:https://trinityinthefields.org/event/aa-3-2024-04-25/
LOCATION:Trinity in the Fields\, 100 East Military Road\, Marion\, AR\, 72364\, United States
END:VEVENT
BEGIN:VEVENT
DTSTART;TZID=UTC:20240424T180000
DTEND;TZID=UTC:20240424T200000
DTSTAMP:20260424T025722
CREATED:20230905T164023Z
LAST-MODIFIED:20230905T164023Z
UID:2151-1713981600-1713988800@trinityinthefields.org
SUMMARY:Small Group Ministries
DESCRIPTION:We meet at Marion\, West Memphis\, and Horseshoe lake
URL:https://trinityinthefields.org/event/small-group-ministries-2024-04-24/
LOCATION:Marion
END:VEVENT
BEGIN:VEVENT
DTSTART;TZID=UTC:20240422T180000
DTEND;TZID=UTC:20240422T190000
DTSTAMP:20260424T025722
CREATED:20230905T161711Z
LAST-MODIFIED:20230905T161912Z
UID:1878-1713808800-1713812400@trinityinthefields.org
SUMMARY:AA
DESCRIPTION:
URL:https://trinityinthefields.org/event/aa-2024-04-22/
LOCATION:Trinity in the Fields\, 100 East Military Road\, Marion\, AR\, 72364\, United States
END:VEVENT
BEGIN:VEVENT
DTSTART;TZID=UTC:20240421T103000
DTEND;TZID=UTC:20240421T233000
DTSTAMP:20260424T025722
CREATED:20230905T160512Z
LAST-MODIFIED:20230905T160512Z
UID:1808-1713695400-1713742200@trinityinthefields.org
SUMMARY:Sunday Worship
DESCRIPTION:
URL:https://trinityinthefields.org/event/sunday-worship-2024-04-21/
LOCATION:Trinity in the Fields\, 100 East Military Road\, Marion\, AR\, 72364\, United States
END:VEVENT
BEGIN:VEVENT
DTSTART;TZID=UTC:20240418T180000
DTEND;TZID=UTC:20240418T190000
DTSTAMP:20260424T025722
CREATED:20230905T162515Z
LAST-MODIFIED:20230905T162515Z
UID:2076-1713463200-1713466800@trinityinthefields.org
SUMMARY:AA
DESCRIPTION:
URL:https://trinityinthefields.org/event/aa-3-2024-04-18/
LOCATION:Trinity in the Fields\, 100 East Military Road\, Marion\, AR\, 72364\, United States
END:VEVENT
BEGIN:VEVENT
DTSTART;TZID=UTC:20240417T180000
DTEND;TZID=UTC:20240417T200000
DTSTAMP:20260424T025722
CREATED:20230905T164023Z
LAST-MODIFIED:20230905T164023Z
UID:2150-1713376800-1713384000@trinityinthefields.org
SUMMARY:Small Group Ministries
DESCRIPTION:We meet at Marion\, West Memphis\, and Horseshoe lake
URL:https://trinityinthefields.org/event/small-group-ministries-2024-04-17/
LOCATION:Marion
END:VEVENT
BEGIN:VEVENT
DTSTART;TZID=UTC:20240415T180000
DTEND;TZID=UTC:20240415T190000
DTSTAMP:20260424T025722
CREATED:20230905T161711Z
LAST-MODIFIED:20230905T161910Z
UID:1877-1713204000-1713207600@trinityinthefields.org
SUMMARY:AA
DESCRIPTION:
URL:https://trinityinthefields.org/event/aa-2024-04-15/
LOCATION:Trinity in the Fields\, 100 East Military Road\, Marion\, AR\, 72364\, United States
END:VEVENT
BEGIN:VEVENT
DTSTART;TZID=UTC:20240414T103000
DTEND;TZID=UTC:20240414T233000
DTSTAMP:20260424T025722
CREATED:20230905T160512Z
LAST-MODIFIED:20230905T160512Z
UID:1807-1713090600-1713137400@trinityinthefields.org
SUMMARY:Sunday Worship
DESCRIPTION:
URL:https://trinityinthefields.org/event/sunday-worship-2024-04-14/
LOCATION:Trinity in the Fields\, 100 East Military Road\, Marion\, AR\, 72364\, United States
END:VEVENT
BEGIN:VEVENT
DTSTART;TZID=UTC:20240411T180000
DTEND;TZID=UTC:20240411T190000
DTSTAMP:20260424T025722
CREATED:20230905T162515Z
LAST-MODIFIED:20230905T162515Z
UID:2075-1712858400-1712862000@trinityinthefields.org
SUMMARY:AA
DESCRIPTION:
URL:https://trinityinthefields.org/event/aa-3-2024-04-11/
LOCATION:Trinity in the Fields\, 100 East Military Road\, Marion\, AR\, 72364\, United States
END:VEVENT
BEGIN:VEVENT
DTSTART;TZID=UTC:20240410T180000
DTEND;TZID=UTC:20240410T200000
DTSTAMP:20260424T025722
CREATED:20230905T164023Z
LAST-MODIFIED:20230905T164023Z
UID:2149-1712772000-1712779200@trinityinthefields.org
SUMMARY:Small Group Ministries
DESCRIPTION:We meet at Marion\, West Memphis\, and Horseshoe lake
URL:https://trinityinthefields.org/event/small-group-ministries-2024-04-10/
LOCATION:Marion
END:VEVENT
END:VCALENDAR