BEGIN:VCALENDAR
VERSION:2.0
PRODID:-//Trinity in the Fields - ECPv6.15.20//NONSGML v1.0//EN
CALSCALE:GREGORIAN
METHOD:PUBLISH
X-ORIGINAL-URL:https://trinityinthefields.org
X-WR-CALDESC:Events for Trinity in the Fields
REFRESH-INTERVAL;VALUE=DURATION:PT1H
X-Robots-Tag:noindex
X-PUBLISHED-TTL:PT1H
BEGIN:VTIMEZONE
TZID:UTC
BEGIN:STANDARD
TZOFFSETFROM:+0000
TZOFFSETTO:+0000
TZNAME:UTC
DTSTART:20230101T000000
END:STANDARD
END:VTIMEZONE
BEGIN:VEVENT
DTSTART;TZID=UTC:20240418T180000
DTEND;TZID=UTC:20240418T190000
DTSTAMP:20260424T045111
CREATED:20230905T162515Z
LAST-MODIFIED:20230905T162515Z
UID:2076-1713463200-1713466800@trinityinthefields.org
SUMMARY:AA
DESCRIPTION:
URL:https://trinityinthefields.org/event/aa-3-2024-04-18/
LOCATION:Trinity in the Fields\, 100 East Military Road\, Marion\, AR\, 72364\, United States
END:VEVENT
BEGIN:VEVENT
DTSTART;TZID=UTC:20240417T180000
DTEND;TZID=UTC:20240417T200000
DTSTAMP:20260424T045111
CREATED:20230905T164023Z
LAST-MODIFIED:20230905T164023Z
UID:2150-1713376800-1713384000@trinityinthefields.org
SUMMARY:Small Group Ministries
DESCRIPTION:We meet at Marion\, West Memphis\, and Horseshoe lake
URL:https://trinityinthefields.org/event/small-group-ministries-2024-04-17/
LOCATION:Marion
END:VEVENT
BEGIN:VEVENT
DTSTART;TZID=UTC:20240415T180000
DTEND;TZID=UTC:20240415T190000
DTSTAMP:20260424T045111
CREATED:20230905T161711Z
LAST-MODIFIED:20230905T161910Z
UID:1877-1713204000-1713207600@trinityinthefields.org
SUMMARY:AA
DESCRIPTION:
URL:https://trinityinthefields.org/event/aa-2024-04-15/
LOCATION:Trinity in the Fields\, 100 East Military Road\, Marion\, AR\, 72364\, United States
END:VEVENT
BEGIN:VEVENT
DTSTART;TZID=UTC:20240414T103000
DTEND;TZID=UTC:20240414T233000
DTSTAMP:20260424T045111
CREATED:20230905T160512Z
LAST-MODIFIED:20230905T160512Z
UID:1807-1713090600-1713137400@trinityinthefields.org
SUMMARY:Sunday Worship
DESCRIPTION:
URL:https://trinityinthefields.org/event/sunday-worship-2024-04-14/
LOCATION:Trinity in the Fields\, 100 East Military Road\, Marion\, AR\, 72364\, United States
END:VEVENT
BEGIN:VEVENT
DTSTART;TZID=UTC:20240411T180000
DTEND;TZID=UTC:20240411T190000
DTSTAMP:20260424T045111
CREATED:20230905T162515Z
LAST-MODIFIED:20230905T162515Z
UID:2075-1712858400-1712862000@trinityinthefields.org
SUMMARY:AA
DESCRIPTION:
URL:https://trinityinthefields.org/event/aa-3-2024-04-11/
LOCATION:Trinity in the Fields\, 100 East Military Road\, Marion\, AR\, 72364\, United States
END:VEVENT
BEGIN:VEVENT
DTSTART;TZID=UTC:20240410T180000
DTEND;TZID=UTC:20240410T200000
DTSTAMP:20260424T045111
CREATED:20230905T164023Z
LAST-MODIFIED:20230905T164023Z
UID:2149-1712772000-1712779200@trinityinthefields.org
SUMMARY:Small Group Ministries
DESCRIPTION:We meet at Marion\, West Memphis\, and Horseshoe lake
URL:https://trinityinthefields.org/event/small-group-ministries-2024-04-10/
LOCATION:Marion
END:VEVENT
BEGIN:VEVENT
DTSTART;TZID=UTC:20240408T180000
DTEND;TZID=UTC:20240408T190000
DTSTAMP:20260424T045111
CREATED:20230905T161711Z
LAST-MODIFIED:20230905T161908Z
UID:1876-1712599200-1712602800@trinityinthefields.org
SUMMARY:AA
DESCRIPTION:
URL:https://trinityinthefields.org/event/aa-2024-04-08/
LOCATION:Trinity in the Fields\, 100 East Military Road\, Marion\, AR\, 72364\, United States
END:VEVENT
BEGIN:VEVENT
DTSTART;TZID=UTC:20240407T103000
DTEND;TZID=UTC:20240407T233000
DTSTAMP:20260424T045111
CREATED:20230905T160512Z
LAST-MODIFIED:20230905T160512Z
UID:1806-1712485800-1712532600@trinityinthefields.org
SUMMARY:Sunday Worship
DESCRIPTION:
URL:https://trinityinthefields.org/event/sunday-worship-2024-04-07/
LOCATION:Trinity in the Fields\, 100 East Military Road\, Marion\, AR\, 72364\, United States
END:VEVENT
BEGIN:VEVENT
DTSTART;TZID=UTC:20240404T180000
DTEND;TZID=UTC:20240404T190000
DTSTAMP:20260424T045111
CREATED:20230905T162515Z
LAST-MODIFIED:20230905T162515Z
UID:2074-1712253600-1712257200@trinityinthefields.org
SUMMARY:AA
DESCRIPTION:
URL:https://trinityinthefields.org/event/aa-3-2024-04-04/
LOCATION:Trinity in the Fields\, 100 East Military Road\, Marion\, AR\, 72364\, United States
END:VEVENT
BEGIN:VEVENT
DTSTART;TZID=UTC:20240403T180000
DTEND;TZID=UTC:20240403T200000
DTSTAMP:20260424T045111
CREATED:20230905T164023Z
LAST-MODIFIED:20230905T164023Z
UID:2148-1712167200-1712174400@trinityinthefields.org
SUMMARY:Small Group Ministries
DESCRIPTION:We meet at Marion\, West Memphis\, and Horseshoe lake
URL:https://trinityinthefields.org/event/small-group-ministries-2024-04-03/
LOCATION:Marion
END:VEVENT
BEGIN:VEVENT
DTSTART;TZID=UTC:20240401T180000
DTEND;TZID=UTC:20240401T190000
DTSTAMP:20260424T045111
CREATED:20230905T161711Z
LAST-MODIFIED:20230905T161905Z
UID:1875-1711994400-1711998000@trinityinthefields.org
SUMMARY:AA
DESCRIPTION:
URL:https://trinityinthefields.org/event/aa-2024-04-01/
LOCATION:Trinity in the Fields\, 100 East Military Road\, Marion\, AR\, 72364\, United States
END:VEVENT
BEGIN:VEVENT
DTSTART;TZID=UTC:20240331T103000
DTEND;TZID=UTC:20240331T233000
DTSTAMP:20260424T045111
CREATED:20230905T160512Z
LAST-MODIFIED:20230905T160512Z
UID:1805-1711881000-1711927800@trinityinthefields.org
SUMMARY:Sunday Worship
DESCRIPTION:
URL:https://trinityinthefields.org/event/sunday-worship-2024-03-31/
LOCATION:Trinity in the Fields\, 100 East Military Road\, Marion\, AR\, 72364\, United States
END:VEVENT
BEGIN:VEVENT
DTSTART;TZID=UTC:20240328T180000
DTEND;TZID=UTC:20240328T190000
DTSTAMP:20260424T045111
CREATED:20230905T162515Z
LAST-MODIFIED:20230905T162515Z
UID:2073-1711648800-1711652400@trinityinthefields.org
SUMMARY:AA
DESCRIPTION:
URL:https://trinityinthefields.org/event/aa-3-2024-03-28/
LOCATION:Trinity in the Fields\, 100 East Military Road\, Marion\, AR\, 72364\, United States
END:VEVENT
BEGIN:VEVENT
DTSTART;TZID=UTC:20240327T180000
DTEND;TZID=UTC:20240327T200000
DTSTAMP:20260424T045111
CREATED:20230905T164023Z
LAST-MODIFIED:20230905T164023Z
UID:2147-1711562400-1711569600@trinityinthefields.org
SUMMARY:Small Group Ministries
DESCRIPTION:We meet at Marion\, West Memphis\, and Horseshoe lake
URL:https://trinityinthefields.org/event/small-group-ministries-2024-03-27/
LOCATION:Marion
END:VEVENT
BEGIN:VEVENT
DTSTART;TZID=UTC:20240325T180000
DTEND;TZID=UTC:20240325T190000
DTSTAMP:20260424T045111
CREATED:20230905T161711Z
LAST-MODIFIED:20230905T161902Z
UID:1874-1711389600-1711393200@trinityinthefields.org
SUMMARY:AA
DESCRIPTION:
URL:https://trinityinthefields.org/event/aa-2024-03-25/
LOCATION:Trinity in the Fields\, 100 East Military Road\, Marion\, AR\, 72364\, United States
END:VEVENT
BEGIN:VEVENT
DTSTART;TZID=UTC:20240324T103000
DTEND;TZID=UTC:20240324T233000
DTSTAMP:20260424T045111
CREATED:20230905T160512Z
LAST-MODIFIED:20230905T160512Z
UID:1804-1711276200-1711323000@trinityinthefields.org
SUMMARY:Sunday Worship
DESCRIPTION:
URL:https://trinityinthefields.org/event/sunday-worship-2024-03-24/
LOCATION:Trinity in the Fields\, 100 East Military Road\, Marion\, AR\, 72364\, United States
END:VEVENT
BEGIN:VEVENT
DTSTART;TZID=UTC:20240321T180000
DTEND;TZID=UTC:20240321T190000
DTSTAMP:20260424T045111
CREATED:20230905T162515Z
LAST-MODIFIED:20230905T162515Z
UID:2072-1711044000-1711047600@trinityinthefields.org
SUMMARY:AA
DESCRIPTION:
URL:https://trinityinthefields.org/event/aa-3-2024-03-21/
LOCATION:Trinity in the Fields\, 100 East Military Road\, Marion\, AR\, 72364\, United States
END:VEVENT
BEGIN:VEVENT
DTSTART;TZID=UTC:20240320T180000
DTEND;TZID=UTC:20240320T200000
DTSTAMP:20260424T045111
CREATED:20230905T164023Z
LAST-MODIFIED:20230905T164023Z
UID:2146-1710957600-1710964800@trinityinthefields.org
SUMMARY:Small Group Ministries
DESCRIPTION:We meet at Marion\, West Memphis\, and Horseshoe lake
URL:https://trinityinthefields.org/event/small-group-ministries-2024-03-20/
LOCATION:Marion
END:VEVENT
BEGIN:VEVENT
DTSTART;TZID=UTC:20240318T180000
DTEND;TZID=UTC:20240318T190000
DTSTAMP:20260424T045111
CREATED:20230905T161711Z
LAST-MODIFIED:20230905T161900Z
UID:1873-1710784800-1710788400@trinityinthefields.org
SUMMARY:AA
DESCRIPTION:
URL:https://trinityinthefields.org/event/aa-2024-03-18/
LOCATION:Trinity in the Fields\, 100 East Military Road\, Marion\, AR\, 72364\, United States
END:VEVENT
BEGIN:VEVENT
DTSTART;TZID=UTC:20240317T103000
DTEND;TZID=UTC:20240317T233000
DTSTAMP:20260424T045111
CREATED:20230905T160512Z
LAST-MODIFIED:20230905T160512Z
UID:1803-1710671400-1710718200@trinityinthefields.org
SUMMARY:Sunday Worship
DESCRIPTION:
URL:https://trinityinthefields.org/event/sunday-worship-2024-03-17/
LOCATION:Trinity in the Fields\, 100 East Military Road\, Marion\, AR\, 72364\, United States
END:VEVENT
BEGIN:VEVENT
DTSTART;TZID=UTC:20240314T180000
DTEND;TZID=UTC:20240314T190000
DTSTAMP:20260424T045111
CREATED:20230905T162515Z
LAST-MODIFIED:20230905T162515Z
UID:2071-1710439200-1710442800@trinityinthefields.org
SUMMARY:AA
DESCRIPTION:
URL:https://trinityinthefields.org/event/aa-3-2024-03-14/
LOCATION:Trinity in the Fields\, 100 East Military Road\, Marion\, AR\, 72364\, United States
END:VEVENT
BEGIN:VEVENT
DTSTART;TZID=UTC:20240313T180000
DTEND;TZID=UTC:20240313T200000
DTSTAMP:20260424T045111
CREATED:20230905T164023Z
LAST-MODIFIED:20230905T164023Z
UID:2145-1710352800-1710360000@trinityinthefields.org
SUMMARY:Small Group Ministries
DESCRIPTION:We meet at Marion\, West Memphis\, and Horseshoe lake
URL:https://trinityinthefields.org/event/small-group-ministries-2024-03-13/
LOCATION:Marion
END:VEVENT
BEGIN:VEVENT
DTSTART;TZID=UTC:20240311T180000
DTEND;TZID=UTC:20240311T190000
DTSTAMP:20260424T045111
CREATED:20230905T161711Z
LAST-MODIFIED:20230905T161857Z
UID:1872-1710180000-1710183600@trinityinthefields.org
SUMMARY:AA
DESCRIPTION:
URL:https://trinityinthefields.org/event/aa-2024-03-11/
LOCATION:Trinity in the Fields\, 100 East Military Road\, Marion\, AR\, 72364\, United States
END:VEVENT
BEGIN:VEVENT
DTSTART;TZID=UTC:20240310T103000
DTEND;TZID=UTC:20240310T233000
DTSTAMP:20260424T045111
CREATED:20230905T160512Z
LAST-MODIFIED:20230905T160512Z
UID:1802-1710066600-1710113400@trinityinthefields.org
SUMMARY:Sunday Worship
DESCRIPTION:
URL:https://trinityinthefields.org/event/sunday-worship-2024-03-10/
LOCATION:Trinity in the Fields\, 100 East Military Road\, Marion\, AR\, 72364\, United States
END:VEVENT
BEGIN:VEVENT
DTSTART;TZID=UTC:20240307T180000
DTEND;TZID=UTC:20240307T190000
DTSTAMP:20260424T045111
CREATED:20230905T162515Z
LAST-MODIFIED:20230905T162515Z
UID:2070-1709834400-1709838000@trinityinthefields.org
SUMMARY:AA
DESCRIPTION:
URL:https://trinityinthefields.org/event/aa-3-2024-03-07/
LOCATION:Trinity in the Fields\, 100 East Military Road\, Marion\, AR\, 72364\, United States
END:VEVENT
BEGIN:VEVENT
DTSTART;TZID=UTC:20240306T180000
DTEND;TZID=UTC:20240306T200000
DTSTAMP:20260424T045111
CREATED:20230905T164023Z
LAST-MODIFIED:20230905T164023Z
UID:2144-1709748000-1709755200@trinityinthefields.org
SUMMARY:Small Group Ministries
DESCRIPTION:We meet at Marion\, West Memphis\, and Horseshoe lake
URL:https://trinityinthefields.org/event/small-group-ministries-2024-03-06/
LOCATION:Marion
END:VEVENT
BEGIN:VEVENT
DTSTART;TZID=UTC:20240304T180000
DTEND;TZID=UTC:20240304T190000
DTSTAMP:20260424T045111
CREATED:20230905T161711Z
LAST-MODIFIED:20230905T161855Z
UID:1871-1709575200-1709578800@trinityinthefields.org
SUMMARY:AA
DESCRIPTION:
URL:https://trinityinthefields.org/event/aa-2024-03-04/
LOCATION:Trinity in the Fields\, 100 East Military Road\, Marion\, AR\, 72364\, United States
END:VEVENT
BEGIN:VEVENT
DTSTART;TZID=UTC:20240303T103000
DTEND;TZID=UTC:20240303T233000
DTSTAMP:20260424T045111
CREATED:20230905T160512Z
LAST-MODIFIED:20230905T160512Z
UID:1801-1709461800-1709508600@trinityinthefields.org
SUMMARY:Sunday Worship
DESCRIPTION:
URL:https://trinityinthefields.org/event/sunday-worship-2024-03-03/
LOCATION:Trinity in the Fields\, 100 East Military Road\, Marion\, AR\, 72364\, United States
END:VEVENT
BEGIN:VEVENT
DTSTART;TZID=UTC:20240229T180000
DTEND;TZID=UTC:20240229T190000
DTSTAMP:20260424T045111
CREATED:20230905T162515Z
LAST-MODIFIED:20230905T162515Z
UID:2069-1709229600-1709233200@trinityinthefields.org
SUMMARY:AA
DESCRIPTION:
URL:https://trinityinthefields.org/event/aa-3-2024-02-29/
LOCATION:Trinity in the Fields\, 100 East Military Road\, Marion\, AR\, 72364\, United States
END:VEVENT
BEGIN:VEVENT
DTSTART;TZID=UTC:20240228T180000
DTEND;TZID=UTC:20240228T200000
DTSTAMP:20260424T045111
CREATED:20230905T164023Z
LAST-MODIFIED:20230905T164023Z
UID:2143-1709143200-1709150400@trinityinthefields.org
SUMMARY:Small Group Ministries
DESCRIPTION:We meet at Marion\, West Memphis\, and Horseshoe lake
URL:https://trinityinthefields.org/event/small-group-ministries-2024-02-28/
LOCATION:Marion
END:VEVENT
END:VCALENDAR