BEGIN:VCALENDAR
VERSION:2.0
PRODID:-//Trinity in the Fields - ECPv6.15.20//NONSGML v1.0//EN
CALSCALE:GREGORIAN
METHOD:PUBLISH
X-ORIGINAL-URL:https://trinityinthefields.org
X-WR-CALDESC:Events for Trinity in the Fields
REFRESH-INTERVAL;VALUE=DURATION:PT1H
X-Robots-Tag:noindex
X-PUBLISHED-TTL:PT1H
BEGIN:VTIMEZONE
TZID:UTC
BEGIN:STANDARD
TZOFFSETFROM:+0000
TZOFFSETTO:+0000
TZNAME:UTC
DTSTART:20230101T000000
END:STANDARD
END:VTIMEZONE
BEGIN:VEVENT
DTSTART;TZID=UTC:20240307T180000
DTEND;TZID=UTC:20240307T190000
DTSTAMP:20260424T070211
CREATED:20230905T162515Z
LAST-MODIFIED:20230905T162515Z
UID:2070-1709834400-1709838000@trinityinthefields.org
SUMMARY:AA
DESCRIPTION:
URL:https://trinityinthefields.org/event/aa-3-2024-03-07/
LOCATION:Trinity in the Fields\, 100 East Military Road\, Marion\, AR\, 72364\, United States
END:VEVENT
BEGIN:VEVENT
DTSTART;TZID=UTC:20240306T180000
DTEND;TZID=UTC:20240306T200000
DTSTAMP:20260424T070211
CREATED:20230905T164023Z
LAST-MODIFIED:20230905T164023Z
UID:2144-1709748000-1709755200@trinityinthefields.org
SUMMARY:Small Group Ministries
DESCRIPTION:We meet at Marion\, West Memphis\, and Horseshoe lake
URL:https://trinityinthefields.org/event/small-group-ministries-2024-03-06/
LOCATION:Marion
END:VEVENT
BEGIN:VEVENT
DTSTART;TZID=UTC:20240304T180000
DTEND;TZID=UTC:20240304T190000
DTSTAMP:20260424T070211
CREATED:20230905T161711Z
LAST-MODIFIED:20230905T161855Z
UID:1871-1709575200-1709578800@trinityinthefields.org
SUMMARY:AA
DESCRIPTION:
URL:https://trinityinthefields.org/event/aa-2024-03-04/
LOCATION:Trinity in the Fields\, 100 East Military Road\, Marion\, AR\, 72364\, United States
END:VEVENT
BEGIN:VEVENT
DTSTART;TZID=UTC:20240303T103000
DTEND;TZID=UTC:20240303T233000
DTSTAMP:20260424T070211
CREATED:20230905T160512Z
LAST-MODIFIED:20230905T160512Z
UID:1801-1709461800-1709508600@trinityinthefields.org
SUMMARY:Sunday Worship
DESCRIPTION:
URL:https://trinityinthefields.org/event/sunday-worship-2024-03-03/
LOCATION:Trinity in the Fields\, 100 East Military Road\, Marion\, AR\, 72364\, United States
END:VEVENT
BEGIN:VEVENT
DTSTART;TZID=UTC:20240229T180000
DTEND;TZID=UTC:20240229T190000
DTSTAMP:20260424T070211
CREATED:20230905T162515Z
LAST-MODIFIED:20230905T162515Z
UID:2069-1709229600-1709233200@trinityinthefields.org
SUMMARY:AA
DESCRIPTION:
URL:https://trinityinthefields.org/event/aa-3-2024-02-29/
LOCATION:Trinity in the Fields\, 100 East Military Road\, Marion\, AR\, 72364\, United States
END:VEVENT
BEGIN:VEVENT
DTSTART;TZID=UTC:20240228T180000
DTEND;TZID=UTC:20240228T200000
DTSTAMP:20260424T070211
CREATED:20230905T164023Z
LAST-MODIFIED:20230905T164023Z
UID:2143-1709143200-1709150400@trinityinthefields.org
SUMMARY:Small Group Ministries
DESCRIPTION:We meet at Marion\, West Memphis\, and Horseshoe lake
URL:https://trinityinthefields.org/event/small-group-ministries-2024-02-28/
LOCATION:Marion
END:VEVENT
BEGIN:VEVENT
DTSTART;TZID=UTC:20240226T180000
DTEND;TZID=UTC:20240226T190000
DTSTAMP:20260424T070211
CREATED:20230905T161711Z
LAST-MODIFIED:20230905T161853Z
UID:1870-1708970400-1708974000@trinityinthefields.org
SUMMARY:AA
DESCRIPTION:
URL:https://trinityinthefields.org/event/aa-2024-02-26/
LOCATION:Trinity in the Fields\, 100 East Military Road\, Marion\, AR\, 72364\, United States
END:VEVENT
BEGIN:VEVENT
DTSTART;TZID=UTC:20240225T103000
DTEND;TZID=UTC:20240225T233000
DTSTAMP:20260424T070211
CREATED:20230905T160512Z
LAST-MODIFIED:20230905T160512Z
UID:1800-1708857000-1708903800@trinityinthefields.org
SUMMARY:Sunday Worship
DESCRIPTION:
URL:https://trinityinthefields.org/event/sunday-worship-2024-02-25/
LOCATION:Trinity in the Fields\, 100 East Military Road\, Marion\, AR\, 72364\, United States
END:VEVENT
BEGIN:VEVENT
DTSTART;TZID=UTC:20240222T180000
DTEND;TZID=UTC:20240222T190000
DTSTAMP:20260424T070211
CREATED:20230905T162515Z
LAST-MODIFIED:20230905T162515Z
UID:2068-1708624800-1708628400@trinityinthefields.org
SUMMARY:AA
DESCRIPTION:
URL:https://trinityinthefields.org/event/aa-3-2024-02-22/
LOCATION:Trinity in the Fields\, 100 East Military Road\, Marion\, AR\, 72364\, United States
END:VEVENT
BEGIN:VEVENT
DTSTART;TZID=UTC:20240221T180000
DTEND;TZID=UTC:20240221T200000
DTSTAMP:20260424T070211
CREATED:20230905T164023Z
LAST-MODIFIED:20230905T164023Z
UID:2142-1708538400-1708545600@trinityinthefields.org
SUMMARY:Small Group Ministries
DESCRIPTION:We meet at Marion\, West Memphis\, and Horseshoe lake
URL:https://trinityinthefields.org/event/small-group-ministries-2024-02-21/
LOCATION:Marion
END:VEVENT
BEGIN:VEVENT
DTSTART;TZID=UTC:20240219T180000
DTEND;TZID=UTC:20240219T190000
DTSTAMP:20260424T070211
CREATED:20230905T161711Z
LAST-MODIFIED:20230905T161851Z
UID:1869-1708365600-1708369200@trinityinthefields.org
SUMMARY:AA
DESCRIPTION:
URL:https://trinityinthefields.org/event/aa-2024-02-19/
LOCATION:Trinity in the Fields\, 100 East Military Road\, Marion\, AR\, 72364\, United States
END:VEVENT
BEGIN:VEVENT
DTSTART;TZID=UTC:20240218T103000
DTEND;TZID=UTC:20240218T233000
DTSTAMP:20260424T070211
CREATED:20230905T160512Z
LAST-MODIFIED:20230905T160512Z
UID:1799-1708252200-1708299000@trinityinthefields.org
SUMMARY:Sunday Worship
DESCRIPTION:
URL:https://trinityinthefields.org/event/sunday-worship-2024-02-18/
LOCATION:Trinity in the Fields\, 100 East Military Road\, Marion\, AR\, 72364\, United States
END:VEVENT
BEGIN:VEVENT
DTSTART;TZID=UTC:20240215T180000
DTEND;TZID=UTC:20240215T190000
DTSTAMP:20260424T070211
CREATED:20230905T162515Z
LAST-MODIFIED:20230905T162515Z
UID:2067-1708020000-1708023600@trinityinthefields.org
SUMMARY:AA
DESCRIPTION:
URL:https://trinityinthefields.org/event/aa-3-2024-02-15/
LOCATION:Trinity in the Fields\, 100 East Military Road\, Marion\, AR\, 72364\, United States
END:VEVENT
BEGIN:VEVENT
DTSTART;TZID=UTC:20240214T180000
DTEND;TZID=UTC:20240214T200000
DTSTAMP:20260424T070211
CREATED:20230905T164023Z
LAST-MODIFIED:20230905T164023Z
UID:2141-1707933600-1707940800@trinityinthefields.org
SUMMARY:Small Group Ministries
DESCRIPTION:We meet at Marion\, West Memphis\, and Horseshoe lake
URL:https://trinityinthefields.org/event/small-group-ministries-2024-02-14/
LOCATION:Marion
END:VEVENT
BEGIN:VEVENT
DTSTART;TZID=UTC:20240212T180000
DTEND;TZID=UTC:20240212T190000
DTSTAMP:20260424T070211
CREATED:20230905T161711Z
LAST-MODIFIED:20230905T161849Z
UID:1868-1707760800-1707764400@trinityinthefields.org
SUMMARY:AA
DESCRIPTION:
URL:https://trinityinthefields.org/event/aa-2024-02-12/
LOCATION:Trinity in the Fields\, 100 East Military Road\, Marion\, AR\, 72364\, United States
END:VEVENT
BEGIN:VEVENT
DTSTART;TZID=UTC:20240211T103000
DTEND;TZID=UTC:20240211T233000
DTSTAMP:20260424T070211
CREATED:20230905T160512Z
LAST-MODIFIED:20230905T160512Z
UID:1798-1707647400-1707694200@trinityinthefields.org
SUMMARY:Sunday Worship
DESCRIPTION:
URL:https://trinityinthefields.org/event/sunday-worship-2024-02-11/
LOCATION:Trinity in the Fields\, 100 East Military Road\, Marion\, AR\, 72364\, United States
END:VEVENT
BEGIN:VEVENT
DTSTART;TZID=UTC:20240208T180000
DTEND;TZID=UTC:20240208T190000
DTSTAMP:20260424T070211
CREATED:20230905T162515Z
LAST-MODIFIED:20230905T162515Z
UID:2066-1707415200-1707418800@trinityinthefields.org
SUMMARY:AA
DESCRIPTION:
URL:https://trinityinthefields.org/event/aa-3-2024-02-08/
LOCATION:Trinity in the Fields\, 100 East Military Road\, Marion\, AR\, 72364\, United States
END:VEVENT
BEGIN:VEVENT
DTSTART;TZID=UTC:20240207T180000
DTEND;TZID=UTC:20240207T200000
DTSTAMP:20260424T070211
CREATED:20230905T164023Z
LAST-MODIFIED:20230905T164023Z
UID:2140-1707328800-1707336000@trinityinthefields.org
SUMMARY:Small Group Ministries
DESCRIPTION:We meet at Marion\, West Memphis\, and Horseshoe lake
URL:https://trinityinthefields.org/event/small-group-ministries-2024-02-07/
LOCATION:Marion
END:VEVENT
BEGIN:VEVENT
DTSTART;TZID=UTC:20240205T180000
DTEND;TZID=UTC:20240205T190000
DTSTAMP:20260424T070211
CREATED:20230905T161711Z
LAST-MODIFIED:20230905T161847Z
UID:1867-1707156000-1707159600@trinityinthefields.org
SUMMARY:AA
DESCRIPTION:
URL:https://trinityinthefields.org/event/aa-2024-02-05/
LOCATION:Trinity in the Fields\, 100 East Military Road\, Marion\, AR\, 72364\, United States
END:VEVENT
BEGIN:VEVENT
DTSTART;TZID=UTC:20240204T103000
DTEND;TZID=UTC:20240204T233000
DTSTAMP:20260424T070211
CREATED:20230905T160512Z
LAST-MODIFIED:20230905T160512Z
UID:1797-1707042600-1707089400@trinityinthefields.org
SUMMARY:Sunday Worship
DESCRIPTION:
URL:https://trinityinthefields.org/event/sunday-worship-2024-02-04/
LOCATION:Trinity in the Fields\, 100 East Military Road\, Marion\, AR\, 72364\, United States
END:VEVENT
BEGIN:VEVENT
DTSTART;TZID=UTC:20240201T180000
DTEND;TZID=UTC:20240201T190000
DTSTAMP:20260424T070211
CREATED:20230905T162515Z
LAST-MODIFIED:20230905T162515Z
UID:2065-1706810400-1706814000@trinityinthefields.org
SUMMARY:AA
DESCRIPTION:
URL:https://trinityinthefields.org/event/aa-3-2024-02-01/
LOCATION:Trinity in the Fields\, 100 East Military Road\, Marion\, AR\, 72364\, United States
END:VEVENT
BEGIN:VEVENT
DTSTART;TZID=UTC:20240131T180000
DTEND;TZID=UTC:20240131T200000
DTSTAMP:20260424T070211
CREATED:20230905T164023Z
LAST-MODIFIED:20230905T164023Z
UID:2139-1706724000-1706731200@trinityinthefields.org
SUMMARY:Small Group Ministries
DESCRIPTION:We meet at Marion\, West Memphis\, and Horseshoe lake
URL:https://trinityinthefields.org/event/small-group-ministries-2024-01-31/
LOCATION:Marion
END:VEVENT
BEGIN:VEVENT
DTSTART;TZID=UTC:20240129T180000
DTEND;TZID=UTC:20240129T190000
DTSTAMP:20260424T070211
CREATED:20230905T161711Z
LAST-MODIFIED:20230905T161845Z
UID:1866-1706551200-1706554800@trinityinthefields.org
SUMMARY:AA
DESCRIPTION:
URL:https://trinityinthefields.org/event/aa-2024-01-29/
LOCATION:Trinity in the Fields\, 100 East Military Road\, Marion\, AR\, 72364\, United States
END:VEVENT
BEGIN:VEVENT
DTSTART;TZID=UTC:20240128T103000
DTEND;TZID=UTC:20240128T233000
DTSTAMP:20260424T070211
CREATED:20230905T160512Z
LAST-MODIFIED:20230905T160512Z
UID:1796-1706437800-1706484600@trinityinthefields.org
SUMMARY:Sunday Worship
DESCRIPTION:
URL:https://trinityinthefields.org/event/sunday-worship-2024-01-28/
LOCATION:Trinity in the Fields\, 100 East Military Road\, Marion\, AR\, 72364\, United States
END:VEVENT
BEGIN:VEVENT
DTSTART;TZID=UTC:20240125T180000
DTEND;TZID=UTC:20240125T190000
DTSTAMP:20260424T070211
CREATED:20230905T162515Z
LAST-MODIFIED:20230905T162515Z
UID:2064-1706205600-1706209200@trinityinthefields.org
SUMMARY:AA
DESCRIPTION:
URL:https://trinityinthefields.org/event/aa-3-2024-01-25/
LOCATION:Trinity in the Fields\, 100 East Military Road\, Marion\, AR\, 72364\, United States
END:VEVENT
BEGIN:VEVENT
DTSTART;TZID=UTC:20240124T180000
DTEND;TZID=UTC:20240124T200000
DTSTAMP:20260424T070211
CREATED:20230905T164023Z
LAST-MODIFIED:20230905T164023Z
UID:2138-1706119200-1706126400@trinityinthefields.org
SUMMARY:Small Group Ministries
DESCRIPTION:We meet at Marion\, West Memphis\, and Horseshoe lake
URL:https://trinityinthefields.org/event/small-group-ministries-2024-01-24/
LOCATION:Marion
END:VEVENT
BEGIN:VEVENT
DTSTART;TZID=UTC:20240122T180000
DTEND;TZID=UTC:20240122T190000
DTSTAMP:20260424T070211
CREATED:20230905T161711Z
LAST-MODIFIED:20230905T161843Z
UID:1865-1705946400-1705950000@trinityinthefields.org
SUMMARY:AA
DESCRIPTION:
URL:https://trinityinthefields.org/event/aa-2024-01-22/
LOCATION:Trinity in the Fields\, 100 East Military Road\, Marion\, AR\, 72364\, United States
END:VEVENT
BEGIN:VEVENT
DTSTART;TZID=UTC:20240121T103000
DTEND;TZID=UTC:20240121T233000
DTSTAMP:20260424T070211
CREATED:20230905T160512Z
LAST-MODIFIED:20230905T160512Z
UID:1795-1705833000-1705879800@trinityinthefields.org
SUMMARY:Sunday Worship
DESCRIPTION:
URL:https://trinityinthefields.org/event/sunday-worship-2024-01-21/
LOCATION:Trinity in the Fields\, 100 East Military Road\, Marion\, AR\, 72364\, United States
END:VEVENT
BEGIN:VEVENT
DTSTART;TZID=UTC:20240118T180000
DTEND;TZID=UTC:20240118T190000
DTSTAMP:20260424T070211
CREATED:20230905T162515Z
LAST-MODIFIED:20230905T162515Z
UID:2063-1705600800-1705604400@trinityinthefields.org
SUMMARY:AA
DESCRIPTION:
URL:https://trinityinthefields.org/event/aa-3-2024-01-18/
LOCATION:Trinity in the Fields\, 100 East Military Road\, Marion\, AR\, 72364\, United States
END:VEVENT
BEGIN:VEVENT
DTSTART;TZID=UTC:20240117T180000
DTEND;TZID=UTC:20240117T200000
DTSTAMP:20260424T070211
CREATED:20230905T164023Z
LAST-MODIFIED:20230905T164023Z
UID:2137-1705514400-1705521600@trinityinthefields.org
SUMMARY:Small Group Ministries
DESCRIPTION:We meet at Marion\, West Memphis\, and Horseshoe lake
URL:https://trinityinthefields.org/event/small-group-ministries-2024-01-17/
LOCATION:Marion
END:VEVENT
END:VCALENDAR