BEGIN:VCALENDAR
VERSION:2.0
PRODID:-//Trinity in the Fields - ECPv6.15.20//NONSGML v1.0//EN
CALSCALE:GREGORIAN
METHOD:PUBLISH
X-ORIGINAL-URL:https://trinityinthefields.org
X-WR-CALDESC:Events for Trinity in the Fields
REFRESH-INTERVAL;VALUE=DURATION:PT1H
X-Robots-Tag:noindex
X-PUBLISHED-TTL:PT1H
BEGIN:VTIMEZONE
TZID:UTC
BEGIN:STANDARD
TZOFFSETFROM:+0000
TZOFFSETTO:+0000
TZNAME:UTC
DTSTART:20220101T000000
END:STANDARD
END:VTIMEZONE
BEGIN:VEVENT
DTSTART;TZID=UTC:20240104T180000
DTEND;TZID=UTC:20240104T190000
DTSTAMP:20260424T103217
CREATED:20230905T162515Z
LAST-MODIFIED:20230905T162515Z
UID:2061-1704391200-1704394800@trinityinthefields.org
SUMMARY:AA
DESCRIPTION:
URL:https://trinityinthefields.org/event/aa-3-2024-01-04/
LOCATION:Trinity in the Fields\, 100 East Military Road\, Marion\, AR\, 72364\, United States
END:VEVENT
BEGIN:VEVENT
DTSTART;TZID=UTC:20240103T180000
DTEND;TZID=UTC:20240103T200000
DTSTAMP:20260424T103217
CREATED:20230905T164023Z
LAST-MODIFIED:20230905T164023Z
UID:2135-1704304800-1704312000@trinityinthefields.org
SUMMARY:Small Group Ministries
DESCRIPTION:We meet at Marion\, West Memphis\, and Horseshoe lake
URL:https://trinityinthefields.org/event/small-group-ministries-2024-01-03/
LOCATION:Marion
END:VEVENT
BEGIN:VEVENT
DTSTART;TZID=UTC:20240101T180000
DTEND;TZID=UTC:20240101T190000
DTSTAMP:20260424T103217
CREATED:20230905T161711Z
LAST-MODIFIED:20230905T161839Z
UID:1862-1704132000-1704135600@trinityinthefields.org
SUMMARY:AA
DESCRIPTION:
URL:https://trinityinthefields.org/event/aa-2024-01-01/
LOCATION:Trinity in the Fields\, 100 East Military Road\, Marion\, AR\, 72364\, United States
END:VEVENT
BEGIN:VEVENT
DTSTART;TZID=UTC:20231231T103000
DTEND;TZID=UTC:20231231T233000
DTSTAMP:20260424T103217
CREATED:20230905T160512Z
LAST-MODIFIED:20230905T160512Z
UID:1792-1704018600-1704065400@trinityinthefields.org
SUMMARY:Sunday Worship
DESCRIPTION:
URL:https://trinityinthefields.org/event/sunday-worship-2023-12-31/
LOCATION:Trinity in the Fields\, 100 East Military Road\, Marion\, AR\, 72364\, United States
END:VEVENT
BEGIN:VEVENT
DTSTART;TZID=UTC:20231228T180000
DTEND;TZID=UTC:20231228T190000
DTSTAMP:20260424T103217
CREATED:20230905T162515Z
LAST-MODIFIED:20230905T162515Z
UID:2060-1703786400-1703790000@trinityinthefields.org
SUMMARY:AA
DESCRIPTION:
URL:https://trinityinthefields.org/event/aa-3-2023-12-28/
LOCATION:Trinity in the Fields\, 100 East Military Road\, Marion\, AR\, 72364\, United States
END:VEVENT
BEGIN:VEVENT
DTSTART;TZID=UTC:20231227T180000
DTEND;TZID=UTC:20231227T200000
DTSTAMP:20260424T103217
CREATED:20230905T164023Z
LAST-MODIFIED:20230905T164023Z
UID:2134-1703700000-1703707200@trinityinthefields.org
SUMMARY:Small Group Ministries
DESCRIPTION:We meet at Marion\, West Memphis\, and Horseshoe lake
URL:https://trinityinthefields.org/event/small-group-ministries-2023-12-27/
LOCATION:Marion
END:VEVENT
BEGIN:VEVENT
DTSTART;TZID=UTC:20231225T180000
DTEND;TZID=UTC:20231225T190000
DTSTAMP:20260424T103217
CREATED:20230905T161711Z
LAST-MODIFIED:20230905T161837Z
UID:1861-1703527200-1703530800@trinityinthefields.org
SUMMARY:AA
DESCRIPTION:
URL:https://trinityinthefields.org/event/aa-2023-12-25/
LOCATION:Trinity in the Fields\, 100 East Military Road\, Marion\, AR\, 72364\, United States
END:VEVENT
BEGIN:VEVENT
DTSTART;TZID=UTC:20231224T103000
DTEND;TZID=UTC:20231224T233000
DTSTAMP:20260424T103217
CREATED:20230905T160512Z
LAST-MODIFIED:20230905T160512Z
UID:1791-1703413800-1703460600@trinityinthefields.org
SUMMARY:Sunday Worship
DESCRIPTION:
URL:https://trinityinthefields.org/event/sunday-worship-2023-12-24/
LOCATION:Trinity in the Fields\, 100 East Military Road\, Marion\, AR\, 72364\, United States
END:VEVENT
BEGIN:VEVENT
DTSTART;TZID=UTC:20231221T180000
DTEND;TZID=UTC:20231221T190000
DTSTAMP:20260424T103217
CREATED:20230905T162515Z
LAST-MODIFIED:20230905T162515Z
UID:2059-1703181600-1703185200@trinityinthefields.org
SUMMARY:AA
DESCRIPTION:
URL:https://trinityinthefields.org/event/aa-3-2023-12-21/
LOCATION:Trinity in the Fields\, 100 East Military Road\, Marion\, AR\, 72364\, United States
END:VEVENT
BEGIN:VEVENT
DTSTART;TZID=UTC:20231220T180000
DTEND;TZID=UTC:20231220T200000
DTSTAMP:20260424T103217
CREATED:20230905T164023Z
LAST-MODIFIED:20230905T164023Z
UID:2133-1703095200-1703102400@trinityinthefields.org
SUMMARY:Small Group Ministries
DESCRIPTION:We meet at Marion\, West Memphis\, and Horseshoe lake
URL:https://trinityinthefields.org/event/small-group-ministries-2023-12-20/
LOCATION:Marion
END:VEVENT
BEGIN:VEVENT
DTSTART;TZID=UTC:20231218T180000
DTEND;TZID=UTC:20231218T190000
DTSTAMP:20260424T103217
CREATED:20230905T161711Z
LAST-MODIFIED:20230905T161835Z
UID:1860-1702922400-1702926000@trinityinthefields.org
SUMMARY:AA
DESCRIPTION:
URL:https://trinityinthefields.org/event/aa-2023-12-18/
LOCATION:Trinity in the Fields\, 100 East Military Road\, Marion\, AR\, 72364\, United States
END:VEVENT
BEGIN:VEVENT
DTSTART;TZID=UTC:20231217T103000
DTEND;TZID=UTC:20231217T233000
DTSTAMP:20260424T103217
CREATED:20230905T160512Z
LAST-MODIFIED:20230905T160512Z
UID:1790-1702809000-1702855800@trinityinthefields.org
SUMMARY:Sunday Worship
DESCRIPTION:
URL:https://trinityinthefields.org/event/sunday-worship-2023-12-17/
LOCATION:Trinity in the Fields\, 100 East Military Road\, Marion\, AR\, 72364\, United States
END:VEVENT
BEGIN:VEVENT
DTSTART;TZID=UTC:20231214T180000
DTEND;TZID=UTC:20231214T190000
DTSTAMP:20260424T103217
CREATED:20230905T162515Z
LAST-MODIFIED:20230905T162515Z
UID:2058-1702576800-1702580400@trinityinthefields.org
SUMMARY:AA
DESCRIPTION:
URL:https://trinityinthefields.org/event/aa-3-2023-12-14/
LOCATION:Trinity in the Fields\, 100 East Military Road\, Marion\, AR\, 72364\, United States
END:VEVENT
BEGIN:VEVENT
DTSTART;TZID=UTC:20231213T180000
DTEND;TZID=UTC:20231213T200000
DTSTAMP:20260424T103217
CREATED:20230905T164023Z
LAST-MODIFIED:20230905T164023Z
UID:2132-1702490400-1702497600@trinityinthefields.org
SUMMARY:Small Group Ministries
DESCRIPTION:We meet at Marion\, West Memphis\, and Horseshoe lake
URL:https://trinityinthefields.org/event/small-group-ministries-2023-12-13/
LOCATION:Marion
END:VEVENT
BEGIN:VEVENT
DTSTART;TZID=UTC:20231211T180000
DTEND;TZID=UTC:20231211T190000
DTSTAMP:20260424T103217
CREATED:20230905T161711Z
LAST-MODIFIED:20230905T161832Z
UID:1859-1702317600-1702321200@trinityinthefields.org
SUMMARY:AA
DESCRIPTION:
URL:https://trinityinthefields.org/event/aa-2023-12-11/
LOCATION:Trinity in the Fields\, 100 East Military Road\, Marion\, AR\, 72364\, United States
END:VEVENT
BEGIN:VEVENT
DTSTART;TZID=UTC:20231210T103000
DTEND;TZID=UTC:20231210T233000
DTSTAMP:20260424T103217
CREATED:20230905T160512Z
LAST-MODIFIED:20230905T160512Z
UID:1789-1702204200-1702251000@trinityinthefields.org
SUMMARY:Sunday Worship
DESCRIPTION:
URL:https://trinityinthefields.org/event/sunday-worship-2023-12-10/
LOCATION:Trinity in the Fields\, 100 East Military Road\, Marion\, AR\, 72364\, United States
END:VEVENT
BEGIN:VEVENT
DTSTART;TZID=UTC:20231207T180000
DTEND;TZID=UTC:20231207T190000
DTSTAMP:20260424T103217
CREATED:20230905T162515Z
LAST-MODIFIED:20230905T162515Z
UID:2057-1701972000-1701975600@trinityinthefields.org
SUMMARY:AA
DESCRIPTION:
URL:https://trinityinthefields.org/event/aa-3-2023-12-07/
LOCATION:Trinity in the Fields\, 100 East Military Road\, Marion\, AR\, 72364\, United States
END:VEVENT
BEGIN:VEVENT
DTSTART;TZID=UTC:20231206T180000
DTEND;TZID=UTC:20231206T200000
DTSTAMP:20260424T103217
CREATED:20230905T164023Z
LAST-MODIFIED:20230905T164023Z
UID:2131-1701885600-1701892800@trinityinthefields.org
SUMMARY:Small Group Ministries
DESCRIPTION:We meet at Marion\, West Memphis\, and Horseshoe lake
URL:https://trinityinthefields.org/event/small-group-ministries-2023-12-06/
LOCATION:Marion
END:VEVENT
BEGIN:VEVENT
DTSTART;TZID=UTC:20231204T180000
DTEND;TZID=UTC:20231204T190000
DTSTAMP:20260424T103217
CREATED:20230905T161711Z
LAST-MODIFIED:20230905T161830Z
UID:1858-1701712800-1701716400@trinityinthefields.org
SUMMARY:AA
DESCRIPTION:
URL:https://trinityinthefields.org/event/aa-2023-12-04/
LOCATION:Trinity in the Fields\, 100 East Military Road\, Marion\, AR\, 72364\, United States
END:VEVENT
BEGIN:VEVENT
DTSTART;TZID=UTC:20231203T103000
DTEND;TZID=UTC:20231203T233000
DTSTAMP:20260424T103217
CREATED:20230905T160512Z
LAST-MODIFIED:20230905T160512Z
UID:1788-1701599400-1701646200@trinityinthefields.org
SUMMARY:Sunday Worship
DESCRIPTION:
URL:https://trinityinthefields.org/event/sunday-worship-2023-12-03/
LOCATION:Trinity in the Fields\, 100 East Military Road\, Marion\, AR\, 72364\, United States
END:VEVENT
BEGIN:VEVENT
DTSTART;TZID=UTC:20231130T180000
DTEND;TZID=UTC:20231130T190000
DTSTAMP:20260424T103217
CREATED:20230905T162515Z
LAST-MODIFIED:20230905T162515Z
UID:2056-1701367200-1701370800@trinityinthefields.org
SUMMARY:AA
DESCRIPTION:
URL:https://trinityinthefields.org/event/aa-3-2023-11-30/
LOCATION:Trinity in the Fields\, 100 East Military Road\, Marion\, AR\, 72364\, United States
END:VEVENT
BEGIN:VEVENT
DTSTART;TZID=UTC:20231129T180000
DTEND;TZID=UTC:20231129T200000
DTSTAMP:20260424T103217
CREATED:20230905T164023Z
LAST-MODIFIED:20230905T164023Z
UID:2130-1701280800-1701288000@trinityinthefields.org
SUMMARY:Small Group Ministries
DESCRIPTION:We meet at Marion\, West Memphis\, and Horseshoe lake
URL:https://trinityinthefields.org/event/small-group-ministries-2023-11-29/
LOCATION:Marion
END:VEVENT
BEGIN:VEVENT
DTSTART;TZID=UTC:20231127T180000
DTEND;TZID=UTC:20231127T190000
DTSTAMP:20260424T103217
CREATED:20230905T161711Z
LAST-MODIFIED:20230905T161828Z
UID:1857-1701108000-1701111600@trinityinthefields.org
SUMMARY:AA
DESCRIPTION:
URL:https://trinityinthefields.org/event/aa-2023-11-27/
LOCATION:Trinity in the Fields\, 100 East Military Road\, Marion\, AR\, 72364\, United States
END:VEVENT
BEGIN:VEVENT
DTSTART;TZID=UTC:20231126T103000
DTEND;TZID=UTC:20231126T233000
DTSTAMP:20260424T103217
CREATED:20230905T160512Z
LAST-MODIFIED:20230905T160512Z
UID:1787-1700994600-1701041400@trinityinthefields.org
SUMMARY:Sunday Worship
DESCRIPTION:
URL:https://trinityinthefields.org/event/sunday-worship-2023-11-26/
LOCATION:Trinity in the Fields\, 100 East Military Road\, Marion\, AR\, 72364\, United States
END:VEVENT
BEGIN:VEVENT
DTSTART;TZID=UTC:20231123T180000
DTEND;TZID=UTC:20231123T190000
DTSTAMP:20260424T103217
CREATED:20230905T162515Z
LAST-MODIFIED:20230905T162515Z
UID:2054-1700762400-1700766000@trinityinthefields.org
SUMMARY:AA
DESCRIPTION:
URL:https://trinityinthefields.org/event/aa-3-2023-11-23/
LOCATION:Trinity in the Fields\, 100 East Military Road\, Marion\, AR\, 72364\, United States
END:VEVENT
BEGIN:VEVENT
DTSTART;TZID=UTC:20231122T180000
DTEND;TZID=UTC:20231122T200000
DTSTAMP:20260424T103217
CREATED:20230905T164023Z
LAST-MODIFIED:20230905T164023Z
UID:2129-1700676000-1700683200@trinityinthefields.org
SUMMARY:Small Group Ministries
DESCRIPTION:We meet at Marion\, West Memphis\, and Horseshoe lake
URL:https://trinityinthefields.org/event/small-group-ministries-2023-11-22/
LOCATION:Marion
END:VEVENT
BEGIN:VEVENT
DTSTART;TZID=UTC:20231120T180000
DTEND;TZID=UTC:20231120T190000
DTSTAMP:20260424T103217
CREATED:20230905T161711Z
LAST-MODIFIED:20230905T161824Z
UID:1855-1700503200-1700506800@trinityinthefields.org
SUMMARY:AA
DESCRIPTION:
URL:https://trinityinthefields.org/event/aa-2023-11-20/
LOCATION:Trinity in the Fields\, 100 East Military Road\, Marion\, AR\, 72364\, United States
END:VEVENT
BEGIN:VEVENT
DTSTART;TZID=UTC:20231119T103000
DTEND;TZID=UTC:20231119T233000
DTSTAMP:20260424T103217
CREATED:20230905T160512Z
LAST-MODIFIED:20230905T160512Z
UID:1786-1700389800-1700436600@trinityinthefields.org
SUMMARY:Sunday Worship
DESCRIPTION:
URL:https://trinityinthefields.org/event/sunday-worship-2023-11-19/
LOCATION:Trinity in the Fields\, 100 East Military Road\, Marion\, AR\, 72364\, United States
END:VEVENT
BEGIN:VEVENT
DTSTART;TZID=UTC:20231116T180000
DTEND;TZID=UTC:20231116T190000
DTSTAMP:20260424T103217
CREATED:20230905T162515Z
LAST-MODIFIED:20230905T162515Z
UID:2053-1700157600-1700161200@trinityinthefields.org
SUMMARY:AA
DESCRIPTION:
URL:https://trinityinthefields.org/event/aa-3-2023-11-16/
LOCATION:Trinity in the Fields\, 100 East Military Road\, Marion\, AR\, 72364\, United States
END:VEVENT
BEGIN:VEVENT
DTSTART;TZID=UTC:20231115T180000
DTEND;TZID=UTC:20231115T200000
DTSTAMP:20260424T103217
CREATED:20230905T164023Z
LAST-MODIFIED:20230905T164023Z
UID:2127-1700071200-1700078400@trinityinthefields.org
SUMMARY:Small Group Ministries
DESCRIPTION:We meet at Marion\, West Memphis\, and Horseshoe lake
URL:https://trinityinthefields.org/event/small-group-ministries-2023-11-15/
LOCATION:Marion
END:VEVENT
END:VCALENDAR