BEGIN:VCALENDAR
VERSION:2.0
PRODID:-//Trinity in the Fields - ECPv6.15.20//NONSGML v1.0//EN
CALSCALE:GREGORIAN
METHOD:PUBLISH
X-ORIGINAL-URL:https://trinityinthefields.org
X-WR-CALDESC:Events for Trinity in the Fields
REFRESH-INTERVAL;VALUE=DURATION:PT1H
X-Robots-Tag:noindex
X-PUBLISHED-TTL:PT1H
BEGIN:VTIMEZONE
TZID:UTC
BEGIN:STANDARD
TZOFFSETFROM:+0000
TZOFFSETTO:+0000
TZNAME:UTC
DTSTART:20220101T000000
END:STANDARD
END:VTIMEZONE
BEGIN:VEVENT
DTSTART;TZID=UTC:20231123T180000
DTEND;TZID=UTC:20231123T190000
DTSTAMP:20260424T125514
CREATED:20230905T162515Z
LAST-MODIFIED:20230905T162515Z
UID:2054-1700762400-1700766000@trinityinthefields.org
SUMMARY:AA
DESCRIPTION:
URL:https://trinityinthefields.org/event/aa-3-2023-11-23/
LOCATION:Trinity in the Fields\, 100 East Military Road\, Marion\, AR\, 72364\, United States
END:VEVENT
BEGIN:VEVENT
DTSTART;TZID=UTC:20231122T180000
DTEND;TZID=UTC:20231122T200000
DTSTAMP:20260424T125514
CREATED:20230905T164023Z
LAST-MODIFIED:20230905T164023Z
UID:2129-1700676000-1700683200@trinityinthefields.org
SUMMARY:Small Group Ministries
DESCRIPTION:We meet at Marion\, West Memphis\, and Horseshoe lake
URL:https://trinityinthefields.org/event/small-group-ministries-2023-11-22/
LOCATION:Marion
END:VEVENT
BEGIN:VEVENT
DTSTART;TZID=UTC:20231120T180000
DTEND;TZID=UTC:20231120T190000
DTSTAMP:20260424T125514
CREATED:20230905T161711Z
LAST-MODIFIED:20230905T161824Z
UID:1855-1700503200-1700506800@trinityinthefields.org
SUMMARY:AA
DESCRIPTION:
URL:https://trinityinthefields.org/event/aa-2023-11-20/
LOCATION:Trinity in the Fields\, 100 East Military Road\, Marion\, AR\, 72364\, United States
END:VEVENT
BEGIN:VEVENT
DTSTART;TZID=UTC:20231119T103000
DTEND;TZID=UTC:20231119T233000
DTSTAMP:20260424T125514
CREATED:20230905T160512Z
LAST-MODIFIED:20230905T160512Z
UID:1786-1700389800-1700436600@trinityinthefields.org
SUMMARY:Sunday Worship
DESCRIPTION:
URL:https://trinityinthefields.org/event/sunday-worship-2023-11-19/
LOCATION:Trinity in the Fields\, 100 East Military Road\, Marion\, AR\, 72364\, United States
END:VEVENT
BEGIN:VEVENT
DTSTART;TZID=UTC:20231116T180000
DTEND;TZID=UTC:20231116T190000
DTSTAMP:20260424T125514
CREATED:20230905T162515Z
LAST-MODIFIED:20230905T162515Z
UID:2053-1700157600-1700161200@trinityinthefields.org
SUMMARY:AA
DESCRIPTION:
URL:https://trinityinthefields.org/event/aa-3-2023-11-16/
LOCATION:Trinity in the Fields\, 100 East Military Road\, Marion\, AR\, 72364\, United States
END:VEVENT
BEGIN:VEVENT
DTSTART;TZID=UTC:20231115T180000
DTEND;TZID=UTC:20231115T200000
DTSTAMP:20260424T125514
CREATED:20230905T164023Z
LAST-MODIFIED:20230905T164023Z
UID:2127-1700071200-1700078400@trinityinthefields.org
SUMMARY:Small Group Ministries
DESCRIPTION:We meet at Marion\, West Memphis\, and Horseshoe lake
URL:https://trinityinthefields.org/event/small-group-ministries-2023-11-15/
LOCATION:Marion
END:VEVENT
BEGIN:VEVENT
DTSTART;TZID=UTC:20231113T180000
DTEND;TZID=UTC:20231113T190000
DTSTAMP:20260424T125514
CREATED:20230905T161711Z
LAST-MODIFIED:20230905T161822Z
UID:1854-1699898400-1699902000@trinityinthefields.org
SUMMARY:AA
DESCRIPTION:
URL:https://trinityinthefields.org/event/aa-2023-11-13/
LOCATION:Trinity in the Fields\, 100 East Military Road\, Marion\, AR\, 72364\, United States
END:VEVENT
BEGIN:VEVENT
DTSTART;TZID=UTC:20231112T103000
DTEND;TZID=UTC:20231112T233000
DTSTAMP:20260424T125514
CREATED:20230905T160512Z
LAST-MODIFIED:20230905T160512Z
UID:1784-1699785000-1699831800@trinityinthefields.org
SUMMARY:Sunday Worship
DESCRIPTION:
URL:https://trinityinthefields.org/event/sunday-worship-2023-11-12/
LOCATION:Trinity in the Fields\, 100 East Military Road\, Marion\, AR\, 72364\, United States
END:VEVENT
BEGIN:VEVENT
DTSTART;TZID=UTC:20231109T180000
DTEND;TZID=UTC:20231109T190000
DTSTAMP:20260424T125514
CREATED:20230905T162515Z
LAST-MODIFIED:20230905T162515Z
UID:2052-1699552800-1699556400@trinityinthefields.org
SUMMARY:AA
DESCRIPTION:
URL:https://trinityinthefields.org/event/aa-3-2023-11-09/
LOCATION:Trinity in the Fields\, 100 East Military Road\, Marion\, AR\, 72364\, United States
END:VEVENT
BEGIN:VEVENT
DTSTART;TZID=UTC:20231108T180000
DTEND;TZID=UTC:20231108T200000
DTSTAMP:20260424T125514
CREATED:20230905T164023Z
LAST-MODIFIED:20230905T164023Z
UID:2126-1699466400-1699473600@trinityinthefields.org
SUMMARY:Small Group Ministries
DESCRIPTION:We meet at Marion\, West Memphis\, and Horseshoe lake
URL:https://trinityinthefields.org/event/small-group-ministries-2023-11-08/
LOCATION:Marion
END:VEVENT
BEGIN:VEVENT
DTSTART;TZID=UTC:20231106T180000
DTEND;TZID=UTC:20231106T190000
DTSTAMP:20260424T125514
CREATED:20230905T161711Z
LAST-MODIFIED:20230905T161819Z
UID:1853-1699293600-1699297200@trinityinthefields.org
SUMMARY:AA
DESCRIPTION:
URL:https://trinityinthefields.org/event/aa-2023-11-06/
LOCATION:Trinity in the Fields\, 100 East Military Road\, Marion\, AR\, 72364\, United States
END:VEVENT
BEGIN:VEVENT
DTSTART;TZID=UTC:20231105T103000
DTEND;TZID=UTC:20231105T233000
DTSTAMP:20260424T125514
CREATED:20230905T160512Z
LAST-MODIFIED:20230905T160512Z
UID:1783-1699180200-1699227000@trinityinthefields.org
SUMMARY:Sunday Worship
DESCRIPTION:
URL:https://trinityinthefields.org/event/sunday-worship-2023-11-05/
LOCATION:Trinity in the Fields\, 100 East Military Road\, Marion\, AR\, 72364\, United States
END:VEVENT
BEGIN:VEVENT
DTSTART;TZID=UTC:20231102T180000
DTEND;TZID=UTC:20231102T190000
DTSTAMP:20260424T125514
CREATED:20230905T162515Z
LAST-MODIFIED:20230905T162515Z
UID:2051-1698948000-1698951600@trinityinthefields.org
SUMMARY:AA
DESCRIPTION:
URL:https://trinityinthefields.org/event/aa-3-2023-11-02/
LOCATION:Trinity in the Fields\, 100 East Military Road\, Marion\, AR\, 72364\, United States
END:VEVENT
BEGIN:VEVENT
DTSTART;TZID=UTC:20231101T180000
DTEND;TZID=UTC:20231101T200000
DTSTAMP:20260424T125514
CREATED:20230905T164023Z
LAST-MODIFIED:20230905T164023Z
UID:2125-1698861600-1698868800@trinityinthefields.org
SUMMARY:Small Group Ministries
DESCRIPTION:We meet at Marion\, West Memphis\, and Horseshoe lake
URL:https://trinityinthefields.org/event/small-group-ministries-2023-11-01/
LOCATION:Marion
END:VEVENT
BEGIN:VEVENT
DTSTART;TZID=UTC:20231030T180000
DTEND;TZID=UTC:20231030T190000
DTSTAMP:20260424T125514
CREATED:20230905T161711Z
LAST-MODIFIED:20230905T161817Z
UID:1852-1698688800-1698692400@trinityinthefields.org
SUMMARY:AA
DESCRIPTION:
URL:https://trinityinthefields.org/event/aa-2023-10-30/
LOCATION:Trinity in the Fields\, 100 East Military Road\, Marion\, AR\, 72364\, United States
END:VEVENT
BEGIN:VEVENT
DTSTART;TZID=UTC:20231029T103000
DTEND;TZID=UTC:20231029T233000
DTSTAMP:20260424T125514
CREATED:20230905T160512Z
LAST-MODIFIED:20230905T160512Z
UID:1782-1698575400-1698622200@trinityinthefields.org
SUMMARY:Sunday Worship
DESCRIPTION:
URL:https://trinityinthefields.org/event/sunday-worship-2023-10-29/
LOCATION:Trinity in the Fields\, 100 East Military Road\, Marion\, AR\, 72364\, United States
END:VEVENT
BEGIN:VEVENT
DTSTART;TZID=UTC:20231027T180000
DTEND;TZID=UTC:20231028T170000
DTSTAMP:20260424T125514
CREATED:20230914T145938Z
LAST-MODIFIED:20230914T145938Z
UID:2256-1698429600-1698512400@trinityinthefields.org
SUMMARY:Harvest Bazaar
DESCRIPTION:
URL:https://trinityinthefields.org/event/harvest-bazaar-2/
LOCATION:Trinity in the Fields\, 100 East Military Road\, Marion\, AR\, 72364\, United States
ATTACH;FMTTYPE=image/jpeg:https://trinityinthefields.org/wp-content/uploads/2023/09/Harvest-Arts-1.jpeg
END:VEVENT
BEGIN:VEVENT
DTSTART;TZID=UTC:20231026T180000
DTEND;TZID=UTC:20231026T190000
DTSTAMP:20260424T125514
CREATED:20230905T162515Z
LAST-MODIFIED:20230905T162515Z
UID:2050-1698343200-1698346800@trinityinthefields.org
SUMMARY:AA
DESCRIPTION:
URL:https://trinityinthefields.org/event/aa-3-2023-10-26/
LOCATION:Trinity in the Fields\, 100 East Military Road\, Marion\, AR\, 72364\, United States
END:VEVENT
BEGIN:VEVENT
DTSTART;TZID=UTC:20231025T180000
DTEND;TZID=UTC:20231025T200000
DTSTAMP:20260424T125514
CREATED:20230905T164023Z
LAST-MODIFIED:20230905T164023Z
UID:2124-1698256800-1698264000@trinityinthefields.org
SUMMARY:Small Group Ministries
DESCRIPTION:We meet at Marion\, West Memphis\, and Horseshoe lake
URL:https://trinityinthefields.org/event/small-group-ministries-2023-10-25/
LOCATION:Marion
END:VEVENT
BEGIN:VEVENT
DTSTART;TZID=UTC:20231023T180000
DTEND;TZID=UTC:20231023T190000
DTSTAMP:20260424T125514
CREATED:20230905T161711Z
LAST-MODIFIED:20230905T161815Z
UID:1851-1698084000-1698087600@trinityinthefields.org
SUMMARY:AA
DESCRIPTION:
URL:https://trinityinthefields.org/event/aa-2023-10-23/
LOCATION:Trinity in the Fields\, 100 East Military Road\, Marion\, AR\, 72364\, United States
END:VEVENT
BEGIN:VEVENT
DTSTART;TZID=UTC:20231022T103000
DTEND;TZID=UTC:20231022T233000
DTSTAMP:20260424T125514
CREATED:20230905T160512Z
LAST-MODIFIED:20230905T160512Z
UID:1781-1697970600-1698017400@trinityinthefields.org
SUMMARY:Sunday Worship
DESCRIPTION:
URL:https://trinityinthefields.org/event/sunday-worship-2023-10-22/
LOCATION:Trinity in the Fields\, 100 East Military Road\, Marion\, AR\, 72364\, United States
END:VEVENT
BEGIN:VEVENT
DTSTART;TZID=UTC:20231019T180000
DTEND;TZID=UTC:20231019T190000
DTSTAMP:20260424T125514
CREATED:20230905T162515Z
LAST-MODIFIED:20230905T162515Z
UID:2049-1697738400-1697742000@trinityinthefields.org
SUMMARY:AA
DESCRIPTION:
URL:https://trinityinthefields.org/event/aa-3-2023-10-19/
LOCATION:Trinity in the Fields\, 100 East Military Road\, Marion\, AR\, 72364\, United States
END:VEVENT
BEGIN:VEVENT
DTSTART;TZID=UTC:20231018T180000
DTEND;TZID=UTC:20231018T200000
DTSTAMP:20260424T125514
CREATED:20230905T164023Z
LAST-MODIFIED:20230905T164023Z
UID:2123-1697652000-1697659200@trinityinthefields.org
SUMMARY:Small Group Ministries
DESCRIPTION:We meet at Marion\, West Memphis\, and Horseshoe lake
URL:https://trinityinthefields.org/event/small-group-ministries-2023-10-18/
LOCATION:Marion
END:VEVENT
BEGIN:VEVENT
DTSTART;TZID=UTC:20231016T180000
DTEND;TZID=UTC:20231016T190000
DTSTAMP:20260424T125514
CREATED:20230905T161711Z
LAST-MODIFIED:20230905T161813Z
UID:1850-1697479200-1697482800@trinityinthefields.org
SUMMARY:AA
DESCRIPTION:
URL:https://trinityinthefields.org/event/aa-2023-10-16/
LOCATION:Trinity in the Fields\, 100 East Military Road\, Marion\, AR\, 72364\, United States
END:VEVENT
BEGIN:VEVENT
DTSTART;TZID=UTC:20231015T103000
DTEND;TZID=UTC:20231015T233000
DTSTAMP:20260424T125514
CREATED:20230905T160512Z
LAST-MODIFIED:20230905T160512Z
UID:1780-1697365800-1697412600@trinityinthefields.org
SUMMARY:Sunday Worship
DESCRIPTION:
URL:https://trinityinthefields.org/event/sunday-worship-2023-10-15/
LOCATION:Trinity in the Fields\, 100 East Military Road\, Marion\, AR\, 72364\, United States
END:VEVENT
BEGIN:VEVENT
DTSTART;TZID=UTC:20231012T180000
DTEND;TZID=UTC:20231012T190000
DTSTAMP:20260424T125514
CREATED:20230905T162515Z
LAST-MODIFIED:20230905T162515Z
UID:2048-1697133600-1697137200@trinityinthefields.org
SUMMARY:AA
DESCRIPTION:
URL:https://trinityinthefields.org/event/aa-3-2023-10-12/
LOCATION:Trinity in the Fields\, 100 East Military Road\, Marion\, AR\, 72364\, United States
END:VEVENT
BEGIN:VEVENT
DTSTART;TZID=UTC:20231011T180000
DTEND;TZID=UTC:20231011T200000
DTSTAMP:20260424T125514
CREATED:20230905T164023Z
LAST-MODIFIED:20230905T164023Z
UID:2122-1697047200-1697054400@trinityinthefields.org
SUMMARY:Small Group Ministries
DESCRIPTION:We meet at Marion\, West Memphis\, and Horseshoe lake
URL:https://trinityinthefields.org/event/small-group-ministries-2023-10-11/
LOCATION:Marion
END:VEVENT
BEGIN:VEVENT
DTSTART;TZID=UTC:20231009T180000
DTEND;TZID=UTC:20231009T190000
DTSTAMP:20260424T125514
CREATED:20230905T161711Z
LAST-MODIFIED:20230905T161811Z
UID:1849-1696874400-1696878000@trinityinthefields.org
SUMMARY:AA
DESCRIPTION:
URL:https://trinityinthefields.org/event/aa-2023-10-09/
LOCATION:Trinity in the Fields\, 100 East Military Road\, Marion\, AR\, 72364\, United States
END:VEVENT
BEGIN:VEVENT
DTSTART;TZID=UTC:20231008T103000
DTEND;TZID=UTC:20231008T233000
DTSTAMP:20260424T125514
CREATED:20230905T160512Z
LAST-MODIFIED:20230905T160512Z
UID:1779-1696761000-1696807800@trinityinthefields.org
SUMMARY:Sunday Worship
DESCRIPTION:
URL:https://trinityinthefields.org/event/sunday-worship-2023-10-08/
LOCATION:Trinity in the Fields\, 100 East Military Road\, Marion\, AR\, 72364\, United States
END:VEVENT
BEGIN:VEVENT
DTSTART;TZID=UTC:20231005T180000
DTEND;TZID=UTC:20231005T190000
DTSTAMP:20260424T125514
CREATED:20230905T162515Z
LAST-MODIFIED:20230905T162515Z
UID:2047-1696528800-1696532400@trinityinthefields.org
SUMMARY:AA
DESCRIPTION:
URL:https://trinityinthefields.org/event/aa-3-2023-10-05/
LOCATION:Trinity in the Fields\, 100 East Military Road\, Marion\, AR\, 72364\, United States
END:VEVENT
END:VCALENDAR