BEGIN:VCALENDAR
VERSION:2.0
PRODID:-//Trinity in the Fields - ECPv6.15.20//NONSGML v1.0//EN
CALSCALE:GREGORIAN
METHOD:PUBLISH
X-WR-CALNAME:Trinity in the Fields
X-ORIGINAL-URL:https://trinityinthefields.org
X-WR-CALDESC:Events for Trinity in the Fields
REFRESH-INTERVAL;VALUE=DURATION:PT1H
X-Robots-Tag:noindex
X-PUBLISHED-TTL:PT1H
BEGIN:VTIMEZONE
TZID:UTC
BEGIN:STANDARD
TZOFFSETFROM:+0000
TZOFFSETTO:+0000
TZNAME:UTC
DTSTART:20190101T000000
END:STANDARD
END:VTIMEZONE
BEGIN:VEVENT
DTSTART;TZID=UTC:20230924T103000
DTEND;TZID=UTC:20230924T233000
DTSTAMP:20260424T163735
CREATED:20230905T160512Z
LAST-MODIFIED:20230905T160512Z
UID:1777-1695551400-1695598200@trinityinthefields.org
SUMMARY:Sunday Worship
DESCRIPTION:
URL:https://trinityinthefields.org/event/sunday-worship-2023-09-24/
LOCATION:Trinity in the Fields\, 100 East Military Road\, Marion\, AR\, 72364\, United States
END:VEVENT
BEGIN:VEVENT
DTSTART;TZID=UTC:20230922T080000
DTEND;TZID=UTC:20230922T170000
DTSTAMP:20260424T163735
CREATED:20230905T163421Z
LAST-MODIFIED:20230905T165650Z
UID:2110-1695369600-1695402000@trinityinthefields.org
SUMMARY:Ladies Pottery Outing
DESCRIPTION:
URL:https://trinityinthefields.org/event/ladies-pottery-outing/
LOCATION:Merigold\, Merigold
ATTACH;FMTTYPE=image/jpeg:https://trinityinthefields.org/wp-content/uploads/2023/09/McCarty.jpg
END:VEVENT
BEGIN:VEVENT
DTSTART;TZID=UTC:20230921T180000
DTEND;TZID=UTC:20230921T190000
DTSTAMP:20260424T163735
CREATED:20230905T162515Z
LAST-MODIFIED:20230905T162515Z
UID:2045-1695319200-1695322800@trinityinthefields.org
SUMMARY:AA
DESCRIPTION:
URL:https://trinityinthefields.org/event/aa-3-2023-09-21/
LOCATION:Trinity in the Fields\, 100 East Military Road\, Marion\, AR\, 72364\, United States
END:VEVENT
BEGIN:VEVENT
DTSTART;TZID=UTC:20230920T180000
DTEND;TZID=UTC:20230920T200000
DTSTAMP:20260424T163735
CREATED:20230905T164023Z
LAST-MODIFIED:20230905T164023Z
UID:2119-1695232800-1695240000@trinityinthefields.org
SUMMARY:Small Group Ministries
DESCRIPTION:We meet at Marion\, West Memphis\, and Horseshoe lake
URL:https://trinityinthefields.org/event/small-group-ministries-2023-09-20/
LOCATION:Marion
END:VEVENT
BEGIN:VEVENT
DTSTART;TZID=UTC:20230918T180000
DTEND;TZID=UTC:20230918T190000
DTSTAMP:20260424T163735
CREATED:20230905T161711Z
LAST-MODIFIED:20230905T161803Z
UID:1846-1695060000-1695063600@trinityinthefields.org
SUMMARY:AA
DESCRIPTION:
URL:https://trinityinthefields.org/event/aa-2023-09-18/
LOCATION:Trinity in the Fields\, 100 East Military Road\, Marion\, AR\, 72364\, United States
END:VEVENT
BEGIN:VEVENT
DTSTART;TZID=UTC:20230917T103000
DTEND;TZID=UTC:20230917T233000
DTSTAMP:20260424T163735
CREATED:20230905T160512Z
LAST-MODIFIED:20230905T160512Z
UID:1776-1694946600-1694993400@trinityinthefields.org
SUMMARY:Sunday Worship
DESCRIPTION:
URL:https://trinityinthefields.org/event/sunday-worship-2023-09-17/
LOCATION:Trinity in the Fields\, 100 East Military Road\, Marion\, AR\, 72364\, United States
END:VEVENT
BEGIN:VEVENT
DTSTART;TZID=UTC:20230914T180000
DTEND;TZID=UTC:20230914T190000
DTSTAMP:20260424T163735
CREATED:20230905T162515Z
LAST-MODIFIED:20230905T162515Z
UID:2043-1694714400-1694718000@trinityinthefields.org
SUMMARY:AA
DESCRIPTION:
URL:https://trinityinthefields.org/event/aa-3/
LOCATION:Trinity in the Fields\, 100 East Military Road\, Marion\, AR\, 72364\, United States
END:VEVENT
BEGIN:VEVENT
DTSTART;TZID=UTC:20230913T180000
DTEND;TZID=UTC:20230913T200000
DTSTAMP:20260424T163735
CREATED:20230905T164023Z
LAST-MODIFIED:20230905T164023Z
UID:2118-1694628000-1694635200@trinityinthefields.org
SUMMARY:Small Group Ministries
DESCRIPTION:We meet at Marion\, West Memphis\, and Horseshoe lake
URL:https://trinityinthefields.org/event/small-group-ministries-2023-09-13/
LOCATION:Marion
END:VEVENT
BEGIN:VEVENT
DTSTART;TZID=UTC:20230911T180000
DTEND;TZID=UTC:20230911T190000
DTSTAMP:20260424T163735
CREATED:20230905T161711Z
LAST-MODIFIED:20230905T161755Z
UID:1844-1694455200-1694458800@trinityinthefields.org
SUMMARY:AA
DESCRIPTION:
URL:https://trinityinthefields.org/event/aa/
LOCATION:Trinity in the Fields\, 100 East Military Road\, Marion\, AR\, 72364\, United States
END:VEVENT
BEGIN:VEVENT
DTSTART;TZID=UTC:20230910T103000
DTEND;TZID=UTC:20230910T233000
DTSTAMP:20260424T163735
CREATED:20230905T160512Z
LAST-MODIFIED:20230905T160512Z
UID:1775-1694341800-1694388600@trinityinthefields.org
SUMMARY:Sunday Worship
DESCRIPTION:
URL:https://trinityinthefields.org/event/sunday-worship-2023-09-10/
LOCATION:Trinity in the Fields\, 100 East Military Road\, Marion\, AR\, 72364\, United States
END:VEVENT
BEGIN:VEVENT
DTSTART;TZID=UTC:20230906T180000
DTEND;TZID=UTC:20230906T200000
DTSTAMP:20260424T163735
CREATED:20230905T164023Z
LAST-MODIFIED:20230905T164023Z
UID:2114-1694023200-1694030400@trinityinthefields.org
SUMMARY:Small Group Ministries
DESCRIPTION:We meet at Marion\, West Memphis\, and Horseshoe lake
URL:https://trinityinthefields.org/event/small-group-ministries/
LOCATION:Marion
END:VEVENT
BEGIN:VEVENT
DTSTART;TZID=UTC:20230905T080000
DTEND;TZID=UTC:20230905T170000
DTSTAMP:20260424T163735
CREATED:20230905T160512Z
LAST-MODIFIED:20230905T160512Z
UID:1773-1693900800-1693933200@trinityinthefields.org
SUMMARY:Sunday Worship
DESCRIPTION:
URL:https://trinityinthefields.org/event/sunday-worship/
LOCATION:Trinity in the Fields\, 100 East Military Road\, Marion\, AR\, 72364\, United States
END:VEVENT
BEGIN:VEVENT
DTSTART;TZID=UTC:20230827T160000
DTEND;TZID=UTC:20230827T180000
DTSTAMP:20260424T163735
CREATED:20230817T160118Z
LAST-MODIFIED:20230817T160118Z
UID:708-1693152000-1693159200@trinityinthefields.org
SUMMARY:Ladies' Group Kitchen Shower
DESCRIPTION:
URL:https://trinityinthefields.org/event/ladies-group-kitchen-shower/
LOCATION:Trinity in the Fields\, 100 East Military Road\, Marion\, AR\, 72364\, United States
END:VEVENT
BEGIN:VEVENT
DTSTART;TZID=UTC:20230730T103000
DTEND;TZID=UTC:20230730T113000
DTSTAMP:20260424T163735
CREATED:20230727T214048Z
LAST-MODIFIED:20230727T214204Z
UID:689-1690713000-1690716600@trinityinthefields.org
SUMMARY:Sunday Service
DESCRIPTION:Join us for worship on Sunday morning!
URL:https://trinityinthefields.org/event/sunday-service/
LOCATION:Trinity in the Fields\, 100 East Military Road\, Marion\, AR\, 72364\, United States
ATTACH;FMTTYPE=image/jpeg:https://trinityinthefields.org/wp-content/uploads/2020/01/crowd.jpg
ORGANIZER;CN="Trinity in the Fields":MAILTO:admin@trinityinthefields.org
END:VEVENT
BEGIN:VEVENT
DTSTART;TZID=UTC:20200226T183000
DTEND;TZID=UTC:20200226T193000
DTSTAMP:20260424T163735
CREATED:20200123T061159Z
LAST-MODIFIED:20200129T163133Z
UID:494-1582741800-1582745400@trinityinthefields.org
SUMMARY:Ash Wednesday Service
DESCRIPTION:
URL:https://trinityinthefields.org/event/ash-wednesday-service/
LOCATION:Trinity in the Fields\, 100 East Military Road\, Marion\, AR\, 72364\, United States
ATTACH;FMTTYPE=image/jpeg:https://trinityinthefields.org/wp-content/uploads/2020/01/ash-cross1.jpg
END:VEVENT
END:VCALENDAR