BEGIN:VCALENDAR
VERSION:2.0
PRODID:-//Trinity in the Fields - ECPv6.15.20//NONSGML v1.0//EN
CALSCALE:GREGORIAN
METHOD:PUBLISH
X-ORIGINAL-URL:https://trinityinthefields.org
X-WR-CALDESC:Events for Trinity in the Fields
REFRESH-INTERVAL;VALUE=DURATION:PT1H
X-Robots-Tag:noindex
X-PUBLISHED-TTL:PT1H
BEGIN:VTIMEZONE
TZID:UTC
BEGIN:STANDARD
TZOFFSETFROM:+0000
TZOFFSETTO:+0000
TZNAME:UTC
DTSTART:20230101T000000
END:STANDARD
END:VTIMEZONE
BEGIN:VEVENT
DTSTART;TZID=UTC:20240912T180000
DTEND;TZID=UTC:20240912T190000
DTSTAMP:20260423T210225
CREATED:20230905T162515Z
LAST-MODIFIED:20230905T162515Z
UID:2097-1726164000-1726167600@trinityinthefields.org
SUMMARY:AA
DESCRIPTION:
URL:https://trinityinthefields.org/event/aa-3-2024-09-12/
LOCATION:Trinity in the Fields\, 100 East Military Road\, Marion\, AR\, 72364\, United States
END:VEVENT
BEGIN:VEVENT
DTSTART;TZID=UTC:20240911T180000
DTEND;TZID=UTC:20240911T200000
DTSTAMP:20260423T210225
CREATED:20230905T164023Z
LAST-MODIFIED:20230905T164023Z
UID:2171-1726077600-1726084800@trinityinthefields.org
SUMMARY:Small Group Ministries
DESCRIPTION:We meet at Marion\, West Memphis\, and Horseshoe lake
URL:https://trinityinthefields.org/event/small-group-ministries-2024-09-11/
LOCATION:Marion
END:VEVENT
BEGIN:VEVENT
DTSTART;TZID=UTC:20240909T180000
DTEND;TZID=UTC:20240909T190000
DTSTAMP:20260423T210225
CREATED:20230905T161711Z
LAST-MODIFIED:20230905T162001Z
UID:1898-1725904800-1725908400@trinityinthefields.org
SUMMARY:AA
DESCRIPTION:
URL:https://trinityinthefields.org/event/aa-2024-09-09/
LOCATION:Trinity in the Fields\, 100 East Military Road\, Marion\, AR\, 72364\, United States
END:VEVENT
BEGIN:VEVENT
DTSTART;TZID=UTC:20240908T103000
DTEND;TZID=UTC:20240908T233000
DTSTAMP:20260423T210225
CREATED:20230905T160512Z
LAST-MODIFIED:20230905T160512Z
UID:1828-1725791400-1725838200@trinityinthefields.org
SUMMARY:Sunday Worship
DESCRIPTION:
URL:https://trinityinthefields.org/event/sunday-worship-2024-09-08/
LOCATION:Trinity in the Fields\, 100 East Military Road\, Marion\, AR\, 72364\, United States
END:VEVENT
BEGIN:VEVENT
DTSTART;TZID=UTC:20240905T180000
DTEND;TZID=UTC:20240905T190000
DTSTAMP:20260423T210225
CREATED:20230905T162515Z
LAST-MODIFIED:20230905T162515Z
UID:2096-1725559200-1725562800@trinityinthefields.org
SUMMARY:AA
DESCRIPTION:
URL:https://trinityinthefields.org/event/aa-3-2024-09-05/
LOCATION:Trinity in the Fields\, 100 East Military Road\, Marion\, AR\, 72364\, United States
END:VEVENT
BEGIN:VEVENT
DTSTART;TZID=UTC:20240904T180000
DTEND;TZID=UTC:20240904T200000
DTSTAMP:20260423T210225
CREATED:20230905T164023Z
LAST-MODIFIED:20230905T164023Z
UID:2170-1725472800-1725480000@trinityinthefields.org
SUMMARY:Small Group Ministries
DESCRIPTION:We meet at Marion\, West Memphis\, and Horseshoe lake
URL:https://trinityinthefields.org/event/small-group-ministries-2024-09-04/
LOCATION:Marion
END:VEVENT
BEGIN:VEVENT
DTSTART;TZID=UTC:20240902T180000
DTEND;TZID=UTC:20240902T190000
DTSTAMP:20260423T210225
CREATED:20230905T161711Z
LAST-MODIFIED:20230905T162000Z
UID:1897-1725300000-1725303600@trinityinthefields.org
SUMMARY:AA
DESCRIPTION:
URL:https://trinityinthefields.org/event/aa-2024-09-02/
LOCATION:Trinity in the Fields\, 100 East Military Road\, Marion\, AR\, 72364\, United States
END:VEVENT
BEGIN:VEVENT
DTSTART;TZID=UTC:20240901T103000
DTEND;TZID=UTC:20240901T233000
DTSTAMP:20260423T210225
CREATED:20230905T160512Z
LAST-MODIFIED:20230905T160512Z
UID:1827-1725186600-1725233400@trinityinthefields.org
SUMMARY:Sunday Worship
DESCRIPTION:
URL:https://trinityinthefields.org/event/sunday-worship-2024-09-01/
LOCATION:Trinity in the Fields\, 100 East Military Road\, Marion\, AR\, 72364\, United States
END:VEVENT
BEGIN:VEVENT
DTSTART;TZID=UTC:20240829T180000
DTEND;TZID=UTC:20240829T190000
DTSTAMP:20260423T210225
CREATED:20230905T162515Z
LAST-MODIFIED:20230905T162515Z
UID:2095-1724954400-1724958000@trinityinthefields.org
SUMMARY:AA
DESCRIPTION:
URL:https://trinityinthefields.org/event/aa-3-2024-08-29/
LOCATION:Trinity in the Fields\, 100 East Military Road\, Marion\, AR\, 72364\, United States
END:VEVENT
BEGIN:VEVENT
DTSTART;TZID=UTC:20240828T180000
DTEND;TZID=UTC:20240828T200000
DTSTAMP:20260423T210225
CREATED:20230905T164023Z
LAST-MODIFIED:20230905T164023Z
UID:2169-1724868000-1724875200@trinityinthefields.org
SUMMARY:Small Group Ministries
DESCRIPTION:We meet at Marion\, West Memphis\, and Horseshoe lake
URL:https://trinityinthefields.org/event/small-group-ministries-2024-08-28/
LOCATION:Marion
END:VEVENT
BEGIN:VEVENT
DTSTART;TZID=UTC:20240826T180000
DTEND;TZID=UTC:20240826T190000
DTSTAMP:20260423T210225
CREATED:20230905T161711Z
LAST-MODIFIED:20230905T161955Z
UID:1896-1724695200-1724698800@trinityinthefields.org
SUMMARY:AA
DESCRIPTION:
URL:https://trinityinthefields.org/event/aa-2024-08-26/
LOCATION:Trinity in the Fields\, 100 East Military Road\, Marion\, AR\, 72364\, United States
END:VEVENT
BEGIN:VEVENT
DTSTART;TZID=UTC:20240825T103000
DTEND;TZID=UTC:20240825T233000
DTSTAMP:20260423T210225
CREATED:20230905T160512Z
LAST-MODIFIED:20230905T160512Z
UID:1826-1724581800-1724628600@trinityinthefields.org
SUMMARY:Sunday Worship
DESCRIPTION:
URL:https://trinityinthefields.org/event/sunday-worship-2024-08-25/
LOCATION:Trinity in the Fields\, 100 East Military Road\, Marion\, AR\, 72364\, United States
END:VEVENT
BEGIN:VEVENT
DTSTART;TZID=UTC:20240822T180000
DTEND;TZID=UTC:20240822T190000
DTSTAMP:20260423T210225
CREATED:20230905T162515Z
LAST-MODIFIED:20230905T162515Z
UID:2094-1724349600-1724353200@trinityinthefields.org
SUMMARY:AA
DESCRIPTION:
URL:https://trinityinthefields.org/event/aa-3-2024-08-22/
LOCATION:Trinity in the Fields\, 100 East Military Road\, Marion\, AR\, 72364\, United States
END:VEVENT
BEGIN:VEVENT
DTSTART;TZID=UTC:20240821T180000
DTEND;TZID=UTC:20240821T200000
DTSTAMP:20260423T210225
CREATED:20230905T164023Z
LAST-MODIFIED:20230905T164023Z
UID:2168-1724263200-1724270400@trinityinthefields.org
SUMMARY:Small Group Ministries
DESCRIPTION:We meet at Marion\, West Memphis\, and Horseshoe lake
URL:https://trinityinthefields.org/event/small-group-ministries-2024-08-21/
LOCATION:Marion
END:VEVENT
BEGIN:VEVENT
DTSTART;TZID=UTC:20240819T180000
DTEND;TZID=UTC:20240819T190000
DTSTAMP:20260423T210225
CREATED:20230905T161711Z
LAST-MODIFIED:20230905T161953Z
UID:1895-1724090400-1724094000@trinityinthefields.org
SUMMARY:AA
DESCRIPTION:
URL:https://trinityinthefields.org/event/aa-2024-08-19/
LOCATION:Trinity in the Fields\, 100 East Military Road\, Marion\, AR\, 72364\, United States
END:VEVENT
BEGIN:VEVENT
DTSTART;TZID=UTC:20240818T103000
DTEND;TZID=UTC:20240818T233000
DTSTAMP:20260423T210225
CREATED:20230905T160512Z
LAST-MODIFIED:20230905T160512Z
UID:1825-1723977000-1724023800@trinityinthefields.org
SUMMARY:Sunday Worship
DESCRIPTION:
URL:https://trinityinthefields.org/event/sunday-worship-2024-08-18/
LOCATION:Trinity in the Fields\, 100 East Military Road\, Marion\, AR\, 72364\, United States
END:VEVENT
BEGIN:VEVENT
DTSTART;TZID=UTC:20240815T180000
DTEND;TZID=UTC:20240815T190000
DTSTAMP:20260423T210225
CREATED:20230905T162515Z
LAST-MODIFIED:20230905T162515Z
UID:2093-1723744800-1723748400@trinityinthefields.org
SUMMARY:AA
DESCRIPTION:
URL:https://trinityinthefields.org/event/aa-3-2024-08-15/
LOCATION:Trinity in the Fields\, 100 East Military Road\, Marion\, AR\, 72364\, United States
END:VEVENT
BEGIN:VEVENT
DTSTART;TZID=UTC:20240814T180000
DTEND;TZID=UTC:20240814T200000
DTSTAMP:20260423T210225
CREATED:20230905T164023Z
LAST-MODIFIED:20230905T164023Z
UID:2167-1723658400-1723665600@trinityinthefields.org
SUMMARY:Small Group Ministries
DESCRIPTION:We meet at Marion\, West Memphis\, and Horseshoe lake
URL:https://trinityinthefields.org/event/small-group-ministries-2024-08-14/
LOCATION:Marion
END:VEVENT
BEGIN:VEVENT
DTSTART;TZID=UTC:20240812T180000
DTEND;TZID=UTC:20240812T190000
DTSTAMP:20260423T210225
CREATED:20230905T161711Z
LAST-MODIFIED:20230905T161950Z
UID:1894-1723485600-1723489200@trinityinthefields.org
SUMMARY:AA
DESCRIPTION:
URL:https://trinityinthefields.org/event/aa-2024-08-12/
LOCATION:Trinity in the Fields\, 100 East Military Road\, Marion\, AR\, 72364\, United States
END:VEVENT
BEGIN:VEVENT
DTSTART;TZID=UTC:20240811T103000
DTEND;TZID=UTC:20240811T233000
DTSTAMP:20260423T210225
CREATED:20230905T160512Z
LAST-MODIFIED:20230905T160512Z
UID:1824-1723372200-1723419000@trinityinthefields.org
SUMMARY:Sunday Worship
DESCRIPTION:
URL:https://trinityinthefields.org/event/sunday-worship-2024-08-11/
LOCATION:Trinity in the Fields\, 100 East Military Road\, Marion\, AR\, 72364\, United States
END:VEVENT
BEGIN:VEVENT
DTSTART;TZID=UTC:20240808T180000
DTEND;TZID=UTC:20240808T190000
DTSTAMP:20260423T210225
CREATED:20230905T162515Z
LAST-MODIFIED:20230905T162515Z
UID:2092-1723140000-1723143600@trinityinthefields.org
SUMMARY:AA
DESCRIPTION:
URL:https://trinityinthefields.org/event/aa-3-2024-08-08/
LOCATION:Trinity in the Fields\, 100 East Military Road\, Marion\, AR\, 72364\, United States
END:VEVENT
BEGIN:VEVENT
DTSTART;TZID=UTC:20240807T180000
DTEND;TZID=UTC:20240807T200000
DTSTAMP:20260423T210225
CREATED:20230905T164023Z
LAST-MODIFIED:20230905T164023Z
UID:2166-1723053600-1723060800@trinityinthefields.org
SUMMARY:Small Group Ministries
DESCRIPTION:We meet at Marion\, West Memphis\, and Horseshoe lake
URL:https://trinityinthefields.org/event/small-group-ministries-2024-08-07/
LOCATION:Marion
END:VEVENT
BEGIN:VEVENT
DTSTART;TZID=UTC:20240805T180000
DTEND;TZID=UTC:20240805T190000
DTSTAMP:20260423T210225
CREATED:20230905T161711Z
LAST-MODIFIED:20230905T161948Z
UID:1893-1722880800-1722884400@trinityinthefields.org
SUMMARY:AA
DESCRIPTION:
URL:https://trinityinthefields.org/event/aa-2024-08-05/
LOCATION:Trinity in the Fields\, 100 East Military Road\, Marion\, AR\, 72364\, United States
END:VEVENT
BEGIN:VEVENT
DTSTART;TZID=UTC:20240804T103000
DTEND;TZID=UTC:20240804T233000
DTSTAMP:20260423T210225
CREATED:20230905T160512Z
LAST-MODIFIED:20230905T160512Z
UID:1823-1722767400-1722814200@trinityinthefields.org
SUMMARY:Sunday Worship
DESCRIPTION:
URL:https://trinityinthefields.org/event/sunday-worship-2024-08-04/
LOCATION:Trinity in the Fields\, 100 East Military Road\, Marion\, AR\, 72364\, United States
END:VEVENT
BEGIN:VEVENT
DTSTART;TZID=UTC:20240801T180000
DTEND;TZID=UTC:20240801T190000
DTSTAMP:20260423T210225
CREATED:20230905T162515Z
LAST-MODIFIED:20230905T162515Z
UID:2091-1722535200-1722538800@trinityinthefields.org
SUMMARY:AA
DESCRIPTION:
URL:https://trinityinthefields.org/event/aa-3-2024-08-01/
LOCATION:Trinity in the Fields\, 100 East Military Road\, Marion\, AR\, 72364\, United States
END:VEVENT
BEGIN:VEVENT
DTSTART;TZID=UTC:20240731T180000
DTEND;TZID=UTC:20240731T200000
DTSTAMP:20260423T210225
CREATED:20230905T164023Z
LAST-MODIFIED:20230905T164023Z
UID:2165-1722448800-1722456000@trinityinthefields.org
SUMMARY:Small Group Ministries
DESCRIPTION:We meet at Marion\, West Memphis\, and Horseshoe lake
URL:https://trinityinthefields.org/event/small-group-ministries-2024-07-31/
LOCATION:Marion
END:VEVENT
BEGIN:VEVENT
DTSTART;TZID=UTC:20240729T180000
DTEND;TZID=UTC:20240729T190000
DTSTAMP:20260423T210225
CREATED:20230905T161711Z
LAST-MODIFIED:20230905T161946Z
UID:1892-1722276000-1722279600@trinityinthefields.org
SUMMARY:AA
DESCRIPTION:
URL:https://trinityinthefields.org/event/aa-2024-07-29/
LOCATION:Trinity in the Fields\, 100 East Military Road\, Marion\, AR\, 72364\, United States
END:VEVENT
BEGIN:VEVENT
DTSTART;TZID=UTC:20240728T103000
DTEND;TZID=UTC:20240728T233000
DTSTAMP:20260423T210225
CREATED:20230905T160512Z
LAST-MODIFIED:20230905T160512Z
UID:1822-1722162600-1722209400@trinityinthefields.org
SUMMARY:Sunday Worship
DESCRIPTION:
URL:https://trinityinthefields.org/event/sunday-worship-2024-07-28/
LOCATION:Trinity in the Fields\, 100 East Military Road\, Marion\, AR\, 72364\, United States
END:VEVENT
BEGIN:VEVENT
DTSTART;TZID=UTC:20240725T180000
DTEND;TZID=UTC:20240725T190000
DTSTAMP:20260423T210225
CREATED:20230905T162515Z
LAST-MODIFIED:20230905T162515Z
UID:2090-1721930400-1721934000@trinityinthefields.org
SUMMARY:AA
DESCRIPTION:
URL:https://trinityinthefields.org/event/aa-3-2024-07-25/
LOCATION:Trinity in the Fields\, 100 East Military Road\, Marion\, AR\, 72364\, United States
END:VEVENT
BEGIN:VEVENT
DTSTART;TZID=UTC:20240724T180000
DTEND;TZID=UTC:20240724T200000
DTSTAMP:20260423T210225
CREATED:20230905T164023Z
LAST-MODIFIED:20230905T164023Z
UID:2164-1721844000-1721851200@trinityinthefields.org
SUMMARY:Small Group Ministries
DESCRIPTION:We meet at Marion\, West Memphis\, and Horseshoe lake
URL:https://trinityinthefields.org/event/small-group-ministries-2024-07-24/
LOCATION:Marion
END:VEVENT
END:VCALENDAR