BEGIN:VCALENDAR
VERSION:2.0
PRODID:-//Trinity in the Fields - ECPv6.15.20//NONSGML v1.0//EN
CALSCALE:GREGORIAN
METHOD:PUBLISH
X-WR-CALNAME:Trinity in the Fields
X-ORIGINAL-URL:https://trinityinthefields.org
X-WR-CALDESC:Events for Trinity in the Fields
REFRESH-INTERVAL;VALUE=DURATION:PT1H
X-Robots-Tag:noindex
X-PUBLISHED-TTL:PT1H
BEGIN:VTIMEZONE
TZID:UTC
BEGIN:STANDARD
TZOFFSETFROM:+0000
TZOFFSETTO:+0000
TZNAME:UTC
DTSTART:20230101T000000
END:STANDARD
END:VTIMEZONE
BEGIN:VEVENT
DTSTART;TZID=UTC:20240801T180000
DTEND;TZID=UTC:20240801T190000
DTSTAMP:20260423T232611
CREATED:20230905T162515Z
LAST-MODIFIED:20230905T162515Z
UID:2091-1722535200-1722538800@trinityinthefields.org
SUMMARY:AA
DESCRIPTION:
URL:https://trinityinthefields.org/event/aa-3-2024-08-01/
LOCATION:Trinity in the Fields\, 100 East Military Road\, Marion\, AR\, 72364\, United States
END:VEVENT
BEGIN:VEVENT
DTSTART;TZID=UTC:20240731T180000
DTEND;TZID=UTC:20240731T200000
DTSTAMP:20260423T232611
CREATED:20230905T164023Z
LAST-MODIFIED:20230905T164023Z
UID:2165-1722448800-1722456000@trinityinthefields.org
SUMMARY:Small Group Ministries
DESCRIPTION:We meet at Marion\, West Memphis\, and Horseshoe lake
URL:https://trinityinthefields.org/event/small-group-ministries-2024-07-31/
LOCATION:Marion
END:VEVENT
BEGIN:VEVENT
DTSTART;TZID=UTC:20240729T180000
DTEND;TZID=UTC:20240729T190000
DTSTAMP:20260423T232611
CREATED:20230905T161711Z
LAST-MODIFIED:20230905T161946Z
UID:1892-1722276000-1722279600@trinityinthefields.org
SUMMARY:AA
DESCRIPTION:
URL:https://trinityinthefields.org/event/aa-2024-07-29/
LOCATION:Trinity in the Fields\, 100 East Military Road\, Marion\, AR\, 72364\, United States
END:VEVENT
BEGIN:VEVENT
DTSTART;TZID=UTC:20240728T103000
DTEND;TZID=UTC:20240728T233000
DTSTAMP:20260423T232611
CREATED:20230905T160512Z
LAST-MODIFIED:20230905T160512Z
UID:1822-1722162600-1722209400@trinityinthefields.org
SUMMARY:Sunday Worship
DESCRIPTION:
URL:https://trinityinthefields.org/event/sunday-worship-2024-07-28/
LOCATION:Trinity in the Fields\, 100 East Military Road\, Marion\, AR\, 72364\, United States
END:VEVENT
BEGIN:VEVENT
DTSTART;TZID=UTC:20240725T180000
DTEND;TZID=UTC:20240725T190000
DTSTAMP:20260423T232611
CREATED:20230905T162515Z
LAST-MODIFIED:20230905T162515Z
UID:2090-1721930400-1721934000@trinityinthefields.org
SUMMARY:AA
DESCRIPTION:
URL:https://trinityinthefields.org/event/aa-3-2024-07-25/
LOCATION:Trinity in the Fields\, 100 East Military Road\, Marion\, AR\, 72364\, United States
END:VEVENT
BEGIN:VEVENT
DTSTART;TZID=UTC:20240724T180000
DTEND;TZID=UTC:20240724T200000
DTSTAMP:20260423T232611
CREATED:20230905T164023Z
LAST-MODIFIED:20230905T164023Z
UID:2164-1721844000-1721851200@trinityinthefields.org
SUMMARY:Small Group Ministries
DESCRIPTION:We meet at Marion\, West Memphis\, and Horseshoe lake
URL:https://trinityinthefields.org/event/small-group-ministries-2024-07-24/
LOCATION:Marion
END:VEVENT
BEGIN:VEVENT
DTSTART;TZID=UTC:20240722T180000
DTEND;TZID=UTC:20240722T190000
DTSTAMP:20260423T232611
CREATED:20230905T161711Z
LAST-MODIFIED:20230905T161944Z
UID:1891-1721671200-1721674800@trinityinthefields.org
SUMMARY:AA
DESCRIPTION:
URL:https://trinityinthefields.org/event/aa-2024-07-22/
LOCATION:Trinity in the Fields\, 100 East Military Road\, Marion\, AR\, 72364\, United States
END:VEVENT
BEGIN:VEVENT
DTSTART;TZID=UTC:20240721T103000
DTEND;TZID=UTC:20240721T233000
DTSTAMP:20260423T232611
CREATED:20230905T160512Z
LAST-MODIFIED:20230905T160512Z
UID:1821-1721557800-1721604600@trinityinthefields.org
SUMMARY:Sunday Worship
DESCRIPTION:
URL:https://trinityinthefields.org/event/sunday-worship-2024-07-21/
LOCATION:Trinity in the Fields\, 100 East Military Road\, Marion\, AR\, 72364\, United States
END:VEVENT
BEGIN:VEVENT
DTSTART;TZID=UTC:20240718T180000
DTEND;TZID=UTC:20240718T190000
DTSTAMP:20260423T232611
CREATED:20230905T162515Z
LAST-MODIFIED:20230905T162515Z
UID:2089-1721325600-1721329200@trinityinthefields.org
SUMMARY:AA
DESCRIPTION:
URL:https://trinityinthefields.org/event/aa-3-2024-07-18/
LOCATION:Trinity in the Fields\, 100 East Military Road\, Marion\, AR\, 72364\, United States
END:VEVENT
BEGIN:VEVENT
DTSTART;TZID=UTC:20240717T180000
DTEND;TZID=UTC:20240717T200000
DTSTAMP:20260423T232611
CREATED:20230905T164023Z
LAST-MODIFIED:20230905T164023Z
UID:2163-1721239200-1721246400@trinityinthefields.org
SUMMARY:Small Group Ministries
DESCRIPTION:We meet at Marion\, West Memphis\, and Horseshoe lake
URL:https://trinityinthefields.org/event/small-group-ministries-2024-07-17/
LOCATION:Marion
END:VEVENT
BEGIN:VEVENT
DTSTART;TZID=UTC:20240715T180000
DTEND;TZID=UTC:20240715T190000
DTSTAMP:20260423T232611
CREATED:20230905T161711Z
LAST-MODIFIED:20230905T161942Z
UID:1890-1721066400-1721070000@trinityinthefields.org
SUMMARY:AA
DESCRIPTION:
URL:https://trinityinthefields.org/event/aa-2024-07-15/
LOCATION:Trinity in the Fields\, 100 East Military Road\, Marion\, AR\, 72364\, United States
END:VEVENT
BEGIN:VEVENT
DTSTART;TZID=UTC:20240714T103000
DTEND;TZID=UTC:20240714T233000
DTSTAMP:20260423T232611
CREATED:20230905T160512Z
LAST-MODIFIED:20230905T160512Z
UID:1820-1720953000-1720999800@trinityinthefields.org
SUMMARY:Sunday Worship
DESCRIPTION:
URL:https://trinityinthefields.org/event/sunday-worship-2024-07-14/
LOCATION:Trinity in the Fields\, 100 East Military Road\, Marion\, AR\, 72364\, United States
END:VEVENT
BEGIN:VEVENT
DTSTART;TZID=UTC:20240711T180000
DTEND;TZID=UTC:20240711T190000
DTSTAMP:20260423T232611
CREATED:20230905T162515Z
LAST-MODIFIED:20230905T162515Z
UID:2088-1720720800-1720724400@trinityinthefields.org
SUMMARY:AA
DESCRIPTION:
URL:https://trinityinthefields.org/event/aa-3-2024-07-11/
LOCATION:Trinity in the Fields\, 100 East Military Road\, Marion\, AR\, 72364\, United States
END:VEVENT
BEGIN:VEVENT
DTSTART;TZID=UTC:20240710T180000
DTEND;TZID=UTC:20240710T200000
DTSTAMP:20260423T232611
CREATED:20230905T164023Z
LAST-MODIFIED:20230905T164023Z
UID:2162-1720634400-1720641600@trinityinthefields.org
SUMMARY:Small Group Ministries
DESCRIPTION:We meet at Marion\, West Memphis\, and Horseshoe lake
URL:https://trinityinthefields.org/event/small-group-ministries-2024-07-10/
LOCATION:Marion
END:VEVENT
BEGIN:VEVENT
DTSTART;TZID=UTC:20240708T180000
DTEND;TZID=UTC:20240708T190000
DTSTAMP:20260423T232611
CREATED:20230905T161711Z
LAST-MODIFIED:20230905T161939Z
UID:1889-1720461600-1720465200@trinityinthefields.org
SUMMARY:AA
DESCRIPTION:
URL:https://trinityinthefields.org/event/aa-2024-07-08/
LOCATION:Trinity in the Fields\, 100 East Military Road\, Marion\, AR\, 72364\, United States
END:VEVENT
BEGIN:VEVENT
DTSTART;TZID=UTC:20240707T103000
DTEND;TZID=UTC:20240707T233000
DTSTAMP:20260423T232611
CREATED:20230905T160512Z
LAST-MODIFIED:20230905T160512Z
UID:1819-1720348200-1720395000@trinityinthefields.org
SUMMARY:Sunday Worship
DESCRIPTION:
URL:https://trinityinthefields.org/event/sunday-worship-2024-07-07/
LOCATION:Trinity in the Fields\, 100 East Military Road\, Marion\, AR\, 72364\, United States
END:VEVENT
BEGIN:VEVENT
DTSTART;TZID=UTC:20240704T180000
DTEND;TZID=UTC:20240704T190000
DTSTAMP:20260423T232611
CREATED:20230905T162515Z
LAST-MODIFIED:20230905T162515Z
UID:2087-1720116000-1720119600@trinityinthefields.org
SUMMARY:AA
DESCRIPTION:
URL:https://trinityinthefields.org/event/aa-3-2024-07-04/
LOCATION:Trinity in the Fields\, 100 East Military Road\, Marion\, AR\, 72364\, United States
END:VEVENT
BEGIN:VEVENT
DTSTART;TZID=UTC:20240703T180000
DTEND;TZID=UTC:20240703T200000
DTSTAMP:20260423T232611
CREATED:20230905T164023Z
LAST-MODIFIED:20230905T164023Z
UID:2161-1720029600-1720036800@trinityinthefields.org
SUMMARY:Small Group Ministries
DESCRIPTION:We meet at Marion\, West Memphis\, and Horseshoe lake
URL:https://trinityinthefields.org/event/small-group-ministries-2024-07-03/
LOCATION:Marion
END:VEVENT
BEGIN:VEVENT
DTSTART;TZID=UTC:20240701T180000
DTEND;TZID=UTC:20240701T190000
DTSTAMP:20260423T232611
CREATED:20230905T161711Z
LAST-MODIFIED:20230905T161937Z
UID:1888-1719856800-1719860400@trinityinthefields.org
SUMMARY:AA
DESCRIPTION:
URL:https://trinityinthefields.org/event/aa-2024-07-01/
LOCATION:Trinity in the Fields\, 100 East Military Road\, Marion\, AR\, 72364\, United States
END:VEVENT
BEGIN:VEVENT
DTSTART;TZID=UTC:20240630T103000
DTEND;TZID=UTC:20240630T233000
DTSTAMP:20260423T232611
CREATED:20230905T160512Z
LAST-MODIFIED:20230905T160512Z
UID:1818-1719743400-1719790200@trinityinthefields.org
SUMMARY:Sunday Worship
DESCRIPTION:
URL:https://trinityinthefields.org/event/sunday-worship-2024-06-30/
LOCATION:Trinity in the Fields\, 100 East Military Road\, Marion\, AR\, 72364\, United States
END:VEVENT
BEGIN:VEVENT
DTSTART;TZID=UTC:20240627T180000
DTEND;TZID=UTC:20240627T190000
DTSTAMP:20260423T232611
CREATED:20230905T162515Z
LAST-MODIFIED:20230905T162515Z
UID:2086-1719511200-1719514800@trinityinthefields.org
SUMMARY:AA
DESCRIPTION:
URL:https://trinityinthefields.org/event/aa-3-2024-06-27/
LOCATION:Trinity in the Fields\, 100 East Military Road\, Marion\, AR\, 72364\, United States
END:VEVENT
BEGIN:VEVENT
DTSTART;TZID=UTC:20240626T180000
DTEND;TZID=UTC:20240626T200000
DTSTAMP:20260423T232611
CREATED:20230905T164023Z
LAST-MODIFIED:20230905T164023Z
UID:2160-1719424800-1719432000@trinityinthefields.org
SUMMARY:Small Group Ministries
DESCRIPTION:We meet at Marion\, West Memphis\, and Horseshoe lake
URL:https://trinityinthefields.org/event/small-group-ministries-2024-06-26/
LOCATION:Marion
END:VEVENT
BEGIN:VEVENT
DTSTART;TZID=UTC:20240624T180000
DTEND;TZID=UTC:20240624T190000
DTSTAMP:20260423T232611
CREATED:20230905T161711Z
LAST-MODIFIED:20230905T161933Z
UID:1887-1719252000-1719255600@trinityinthefields.org
SUMMARY:AA
DESCRIPTION:
URL:https://trinityinthefields.org/event/aa-2024-06-24/
LOCATION:Trinity in the Fields\, 100 East Military Road\, Marion\, AR\, 72364\, United States
END:VEVENT
BEGIN:VEVENT
DTSTART;TZID=UTC:20240623T103000
DTEND;TZID=UTC:20240623T233000
DTSTAMP:20260423T232611
CREATED:20230905T160512Z
LAST-MODIFIED:20230905T160512Z
UID:1817-1719138600-1719185400@trinityinthefields.org
SUMMARY:Sunday Worship
DESCRIPTION:
URL:https://trinityinthefields.org/event/sunday-worship-2024-06-23/
LOCATION:Trinity in the Fields\, 100 East Military Road\, Marion\, AR\, 72364\, United States
END:VEVENT
BEGIN:VEVENT
DTSTART;TZID=UTC:20240620T180000
DTEND;TZID=UTC:20240620T190000
DTSTAMP:20260423T232611
CREATED:20230905T162515Z
LAST-MODIFIED:20230905T162515Z
UID:2085-1718906400-1718910000@trinityinthefields.org
SUMMARY:AA
DESCRIPTION:
URL:https://trinityinthefields.org/event/aa-3-2024-06-20/
LOCATION:Trinity in the Fields\, 100 East Military Road\, Marion\, AR\, 72364\, United States
END:VEVENT
BEGIN:VEVENT
DTSTART;TZID=UTC:20240619T180000
DTEND;TZID=UTC:20240619T200000
DTSTAMP:20260423T232611
CREATED:20230905T164023Z
LAST-MODIFIED:20230905T164023Z
UID:2159-1718820000-1718827200@trinityinthefields.org
SUMMARY:Small Group Ministries
DESCRIPTION:We meet at Marion\, West Memphis\, and Horseshoe lake
URL:https://trinityinthefields.org/event/small-group-ministries-2024-06-19/
LOCATION:Marion
END:VEVENT
BEGIN:VEVENT
DTSTART;TZID=UTC:20240617T180000
DTEND;TZID=UTC:20240617T190000
DTSTAMP:20260423T232611
CREATED:20230905T161711Z
LAST-MODIFIED:20230905T161928Z
UID:1886-1718647200-1718650800@trinityinthefields.org
SUMMARY:AA
DESCRIPTION:
URL:https://trinityinthefields.org/event/aa-2024-06-17/
LOCATION:Trinity in the Fields\, 100 East Military Road\, Marion\, AR\, 72364\, United States
END:VEVENT
BEGIN:VEVENT
DTSTART;TZID=UTC:20240616T103000
DTEND;TZID=UTC:20240616T233000
DTSTAMP:20260423T232611
CREATED:20230905T160512Z
LAST-MODIFIED:20230905T160512Z
UID:1816-1718533800-1718580600@trinityinthefields.org
SUMMARY:Sunday Worship
DESCRIPTION:
URL:https://trinityinthefields.org/event/sunday-worship-2024-06-16/
LOCATION:Trinity in the Fields\, 100 East Military Road\, Marion\, AR\, 72364\, United States
END:VEVENT
BEGIN:VEVENT
DTSTART;TZID=UTC:20240613T180000
DTEND;TZID=UTC:20240613T190000
DTSTAMP:20260423T232611
CREATED:20230905T162515Z
LAST-MODIFIED:20230905T162515Z
UID:2084-1718301600-1718305200@trinityinthefields.org
SUMMARY:AA
DESCRIPTION:
URL:https://trinityinthefields.org/event/aa-3-2024-06-13/
LOCATION:Trinity in the Fields\, 100 East Military Road\, Marion\, AR\, 72364\, United States
END:VEVENT
BEGIN:VEVENT
DTSTART;TZID=UTC:20240612T180000
DTEND;TZID=UTC:20240612T200000
DTSTAMP:20260423T232611
CREATED:20230905T164023Z
LAST-MODIFIED:20230905T164023Z
UID:2158-1718215200-1718222400@trinityinthefields.org
SUMMARY:Small Group Ministries
DESCRIPTION:We meet at Marion\, West Memphis\, and Horseshoe lake
URL:https://trinityinthefields.org/event/small-group-ministries-2024-06-12/
LOCATION:Marion
END:VEVENT
END:VCALENDAR